BEGIN:VCALENDAR
VERSION:2.0
PRODID:-//Microsoft Corporation//Outlook 16.0 MIMEDIR//FR
CALSCALE:GREGORIAN
METHOD:PUBLISH
X-WR-TIMEZONE:Europe/Monaco
X-MS-OLK-FORCEINSPECTOROPEN:"TRUE"
BEGIN:VTIMEZONE
TZID:Europe/Monaco
BEGIN:STANDARD
DTSTART:20261025T010000
TZOFFSETTO:+0100
TZOFFSETFROM:+0200
RRULE:FREQ=YEARLY;BYMONTH=11;BYDAY=1SU
END:STANDARD
BEGIN:DAYLIGHT
DTSTART:20260329T010000
TZOFFSETTO:+0200
TZOFFSETFROM:+0100
RRULE:FREQ=YEARLY;BYMONTH=3;BYDAY=2SU
END:DAYLIGHT
END:VTIMEZONE
BEGIN:VEVENT
UID:6274-68960902c0f175051ba662382b202d50-principocket.com\n
DTSTART:20261211T193000
DTEND:20261211T220000
TRANSP:TRANSPARENT
IMAGE;VALUE=URI;DISPLAY=;FMTTYPE=image/png:https://app.monacoplatform.
 com/uploads/Hf/HfzDUEkPFq.png
STATUS:CONFIRMED
SUMMARY:Shrek - the musical
DESCRIPTION:Vendredi 11 décembre 2026 de 19h30 à 22h - Grimaldi Foru
 m Monaco\n\nShrek The Musical : la comédie musicale culte débarque s
 ur scène\n\n https://www.principocket.com/fr/event/68960902c0f175051b
 a662382b202d50/shrek-the-musical
LOCATION:10\, avenue Princesse Grace
URL:https://www.principocket.com/event/68960902c0f175051ba662382b202d5
 0/6274
DTSTAMP:20260421T182712Z
CREATED:20260421T140358Z
LAST-MODIFIED:20260421T140358Z
END:VEVENT
END:VCALENDAR
