BEGIN:VCALENDAR
VERSION:2.0
PRODID:-//Microsoft Corporation//Outlook 16.0 MIMEDIR//FR
CALSCALE:GREGORIAN
METHOD:PUBLISH
X-WR-TIMEZONE:Europe/Monaco
X-MS-OLK-FORCEINSPECTOROPEN:"TRUE"
BEGIN:VTIMEZONE
TZID:Europe/Monaco
BEGIN:STANDARD
DTSTART:20261025T010000
TZOFFSETTO:+0100
TZOFFSETFROM:+0200
RRULE:FREQ=YEARLY;BYMONTH=11;BYDAY=1SU
END:STANDARD
BEGIN:DAYLIGHT
DTSTART:20260329T010000
TZOFFSETTO:+0200
TZOFFSETFROM:+0100
RRULE:FREQ=YEARLY;BYMONTH=3;BYDAY=2SU
END:DAYLIGHT
END:VTIMEZONE
BEGIN:VEVENT
UID:6271-cd4b27fc76900a223686a93330deeffa-principocket.com\n
DTSTART:20260620T193000
DTEND:20260620T220000
TRANSP:TRANSPARENT
IMAGE;VALUE=URI;DISPLAY=;FMTTYPE=image/png:https://app.monacoplatform.
 com/uploads/Nf/Nf7HsfexPr.jpg
STATUS:CONFIRMED
SUMMARY:Gala de l'Académie
DESCRIPTION:Samedi 20 juin 2026 de 19h30 à 22h - Opéra Garnier Monte
 -Carlo\n\n\n\n https://www.principocket.com/fr/event/cd4b27fc76900a223
 686a93330deeffa/gala-de-l-academie
LOCATION:Place du Casino
URL:https://www.principocket.com/event/cd4b27fc76900a223686a93330deeff
 a/6271
DTSTAMP:20260421T231121Z
CREATED:20260421T140358Z
LAST-MODIFIED:20260421T140358Z
END:VEVENT
END:VCALENDAR
