BEGIN:VCALENDAR
VERSION:2.0
PRODID:-//Microsoft Corporation//Outlook 16.0 MIMEDIR//FR
CALSCALE:GREGORIAN
METHOD:PUBLISH
X-WR-TIMEZONE:Europe/Monaco
X-MS-OLK-FORCEINSPECTOROPEN:"TRUE"
BEGIN:VTIMEZONE
TZID:Europe/Monaco
BEGIN:STANDARD
DTSTART:20261025T010000
TZOFFSETTO:+0100
TZOFFSETFROM:+0200
RRULE:FREQ=YEARLY;BYMONTH=11;BYDAY=1SU
END:STANDARD
BEGIN:DAYLIGHT
DTSTART:20260329T010000
TZOFFSETTO:+0200
TZOFFSETFROM:+0100
RRULE:FREQ=YEARLY;BYMONTH=3;BYDAY=2SU
END:DAYLIGHT
END:VTIMEZONE
BEGIN:VEVENT
UID:6269-af3ebb6d9bdf6cdf2dc2ab54da2d8b2b-principocket.com\n
DTSTART:20260508T203000
DTEND:20260508T223000
TRANSP:TRANSPARENT
IMAGE;VALUE=URI;DISPLAY=;FMTTYPE=image/png:https://app.monacoplatform.
 com/uploads/sG/sGJ8GOsHp6.jpg
STATUS:CONFIRMED
SUMMARY:Jérémy Frerot en concert
DESCRIPTION:Vendredi 8 mai 2026 de 20h30 à 22h30 - Grimaldi Forum Mon
 aco\n\n\n\n https://www.principocket.com/fr/event/af3ebb6d9bdf6cdf2dc2
 ab54da2d8b2b/jeremy-frerot-en-concert
LOCATION:10\, avenue Princesse Grace
URL:https://www.principocket.com/event/af3ebb6d9bdf6cdf2dc2ab54da2d8b2
 b/6269
DTSTAMP:20260421T123712Z
CREATED:20260420T152534Z
LAST-MODIFIED:20260420T152534Z
END:VEVENT
END:VCALENDAR
