BEGIN:VCALENDAR
VERSION:2.0
PRODID:-//Microsoft Corporation//Outlook 16.0 MIMEDIR//FR
CALSCALE:GREGORIAN
METHOD:PUBLISH
X-WR-TIMEZONE:Europe/Monaco
X-MS-OLK-FORCEINSPECTOROPEN:"TRUE"
BEGIN:VTIMEZONE
TZID:Europe/Monaco
BEGIN:STANDARD
DTSTART:20261025T010000
TZOFFSETTO:+0100
TZOFFSETFROM:+0200
RRULE:FREQ=YEARLY;BYMONTH=11;BYDAY=1SU
END:STANDARD
BEGIN:DAYLIGHT
DTSTART:20260329T010000
TZOFFSETTO:+0200
TZOFFSETFROM:+0100
RRULE:FREQ=YEARLY;BYMONTH=3;BYDAY=2SU
END:DAYLIGHT
END:VTIMEZONE
BEGIN:VEVENT
UID:6266-9d1ac2c2941a11692e7d55d2c9c17435-principocket.com\n
DTSTART:20260719T193000
DTEND:20260719T223000
TRANSP:TRANSPARENT
IMAGE;VALUE=URI;DISPLAY=;FMTTYPE=image/png:https://app.monacoplatform.
 com/uploads/W6/W6gZjkWDRG.jpg
STATUS:CONFIRMED
SUMMARY:La Dame aux Camélias
DESCRIPTION:Dimanche 19 juillet 2026 de 19h30 à 22h30 - Grimaldi Foru
 m Monaco\n\nLe Monaco Dance Forum présente : La Dame aux Camélias pa
 r  le Ballet de l'Opéra national de Paris. \n\n https://www.princip
 ocket.com/fr/event/9d1ac2c2941a11692e7d55d2c9c17435/la-dame-aux-cameli
 as
LOCATION:10\, avenue Princesse Grace
URL:https://www.principocket.com/event/9d1ac2c2941a11692e7d55d2c9c1743
 5/6266
DTSTAMP:20260421T171605Z
CREATED:20260421T140354Z
LAST-MODIFIED:20260421T140354Z
END:VEVENT
END:VCALENDAR
