BEGIN:VCALENDAR
VERSION:2.0
PRODID:-//Microsoft Corporation//Outlook 16.0 MIMEDIR//FR
CALSCALE:GREGORIAN
METHOD:PUBLISH
X-WR-TIMEZONE:Europe/Monaco
X-MS-OLK-FORCEINSPECTOROPEN:"TRUE"
BEGIN:VTIMEZONE
TZID:Europe/Monaco
BEGIN:STANDARD
DTSTART:20261025T010000
TZOFFSETTO:+0100
TZOFFSETFROM:+0200
RRULE:FREQ=YEARLY;BYMONTH=11;BYDAY=1SU
END:STANDARD
BEGIN:DAYLIGHT
DTSTART:20260329T010000
TZOFFSETTO:+0200
TZOFFSETFROM:+0100
RRULE:FREQ=YEARLY;BYMONTH=3;BYDAY=2SU
END:DAYLIGHT
END:VTIMEZONE
BEGIN:VEVENT
UID:6265-7c76868806314510e83b65a93dce4049-principocket.com\n
DTSTART:20260710T193000
DTEND:20260710T210000
TRANSP:TRANSPARENT
IMAGE;VALUE=URI;DISPLAY=;FMTTYPE=image/png:https://app.monacoplatform.
 com/uploads/up/up-1bh9TDo.jpg
STATUS:CONFIRMED
SUMMARY:Waku Doki
DESCRIPTION:Vendredi 10 juillet 2026 de 19h30 à 21h - Opéra Garnier 
 Monte-Carlo\n\nLe Monaco Dance Forum présente : Waku Doki\, par la Co
 mpagnie Humaine.\n\n https://www.principocket.com/fr/event/7c768688063
 14510e83b65a93dce4049/waku-doki
LOCATION:Place du Casino
URL:https://www.principocket.com/event/7c76868806314510e83b65a93dce404
 9/6265
DTSTAMP:20260421T184523Z
CREATED:20260421T140354Z
LAST-MODIFIED:20260421T140354Z
END:VEVENT
END:VCALENDAR
