BEGIN:VCALENDAR
VERSION:2.0
PRODID:-//Microsoft Corporation//Outlook 16.0 MIMEDIR//FR
CALSCALE:GREGORIAN
METHOD:PUBLISH
X-WR-TIMEZONE:Europe/Monaco
X-MS-OLK-FORCEINSPECTOROPEN:"TRUE"
BEGIN:VTIMEZONE
TZID:Europe/Monaco
BEGIN:STANDARD
DTSTART:20261025T010000
TZOFFSETTO:+0100
TZOFFSETFROM:+0200
RRULE:FREQ=YEARLY;BYMONTH=11;BYDAY=1SU
END:STANDARD
BEGIN:DAYLIGHT
DTSTART:20260329T010000
TZOFFSETTO:+0200
TZOFFSETFROM:+0100
RRULE:FREQ=YEARLY;BYMONTH=3;BYDAY=2SU
END:DAYLIGHT
END:VTIMEZONE
BEGIN:VEVENT
UID:6264-0b0870265fdc15c6b0c4b6960af0d028-principocket.com\n
DTSTART:20260717T193000
DTEND:20260717T223000
TRANSP:TRANSPARENT
IMAGE;VALUE=URI;DISPLAY=;FMTTYPE=image/png:https://app.monacoplatform.
 com/uploads/W6/W6gZjkWDRG.jpg
STATUS:CONFIRMED
SUMMARY:La Dame aux Camélias
DESCRIPTION:Vendredi 17 juillet 2026 de 19h30 à 22h30 - Grimaldi Foru
 m Monaco\n\nLe Monaco Dance Forum présente : La Dame aux Camélias pa
 r  le Ballet de l'Opéra national de Paris. \n\n https://www.princip
 ocket.com/fr/event/0b0870265fdc15c6b0c4b6960af0d028/la-dame-aux-cameli
 as
LOCATION:10\, avenue Princesse Grace
URL:https://www.principocket.com/event/0b0870265fdc15c6b0c4b6960af0d02
 8/6264
DTSTAMP:20260425T124724Z
CREATED:20260421T140354Z
LAST-MODIFIED:20260421T140354Z
END:VEVENT
END:VCALENDAR
