BEGIN:VCALENDAR
VERSION:2.0
PRODID:-//Microsoft Corporation//Outlook 16.0 MIMEDIR//FR
CALSCALE:GREGORIAN
METHOD:PUBLISH
X-WR-TIMEZONE:Europe/Monaco
X-MS-OLK-FORCEINSPECTOROPEN:"TRUE"
BEGIN:VTIMEZONE
TZID:Europe/Monaco
BEGIN:STANDARD
DTSTART:20261025T010000
TZOFFSETTO:+0100
TZOFFSETFROM:+0200
RRULE:FREQ=YEARLY;BYMONTH=11;BYDAY=1SU
END:STANDARD
BEGIN:DAYLIGHT
DTSTART:20260329T010000
TZOFFSETTO:+0200
TZOFFSETFROM:+0100
RRULE:FREQ=YEARLY;BYMONTH=3;BYDAY=2SU
END:DAYLIGHT
END:VTIMEZONE
BEGIN:VEVENT
UID:6262-d6e91a89dee767a19c5836bb78044104-principocket.com\n
DTSTART:20260621T150000
DTEND:20260621T174500
TRANSP:TRANSPARENT
IMAGE;VALUE=URI;DISPLAY=;FMTTYPE=image/png:https://app.monacoplatform.
 com/uploads/5d/5deiR80bAM.png
STATUS:CONFIRMED
SUMMARY:La La Land en ciné-concert
DESCRIPTION:Dimanche 21 juin 2026 de 15h à 17h45 - Grimaldi Forum Mon
 aco\n\nCiné-concert symphonique\n\n https://www.principocket.com/fr/e
 vent/d6e91a89dee767a19c5836bb78044104/la-la-land-en-cine-concert
LOCATION:10\, avenue Princesse Grace
URL:https://www.principocket.com/event/d6e91a89dee767a19c5836bb7804410
 4/6262
DTSTAMP:20260421T132532Z
CREATED:20260420T152534Z
LAST-MODIFIED:20260420T152534Z
END:VEVENT
END:VCALENDAR
