BEGIN:VCALENDAR
VERSION:2.0
PRODID:-//Microsoft Corporation//Outlook 16.0 MIMEDIR//FR
CALSCALE:GREGORIAN
METHOD:PUBLISH
X-WR-TIMEZONE:Europe/Monaco
X-MS-OLK-FORCEINSPECTOROPEN:"TRUE"
BEGIN:VTIMEZONE
TZID:Europe/Monaco
BEGIN:STANDARD
DTSTART:20261025T010000
TZOFFSETTO:+0100
TZOFFSETFROM:+0200
RRULE:FREQ=YEARLY;BYMONTH=11;BYDAY=1SU
END:STANDARD
BEGIN:DAYLIGHT
DTSTART:20260329T010000
TZOFFSETTO:+0200
TZOFFSETFROM:+0100
RRULE:FREQ=YEARLY;BYMONTH=3;BYDAY=2SU
END:DAYLIGHT
END:VTIMEZONE
BEGIN:VEVENT
UID:6259-1e7ffa97e9824c33c0342801bdcc8805-principocket.com\n
DTSTART:20260528T183000
DTEND:20260528T194500
TRANSP:TRANSPARENT
IMAGE;VALUE=URI;DISPLAY=;FMTTYPE=image/png:https://app.monacoplatform.
 com/uploads/5g/5gVuiFSTCh.jpg
STATUS:CONFIRMED
SUMMARY:Happy Hour Musical
DESCRIPTION:Jeudi 28 mai 2026 de 18h30 à 19h45 - Auditorium Rainier I
 II\n\nLes Happy Hours Musicaux sont des concerts de musique de chambre
  proposés et interprétés par les musiciens de l’OPMC\, générale
 ment conçus autour d’un programme lié à un grand concert symphoni
 que. Les œuvres sont présentées par les musiciens\, favorisant un l
 ien de proximité avec le public. Ces rendez-vous musicaux\, d’une h
 eure environ\, sont suivis d’un moment de convivialité et d’écha
 nge avec les musiciens\, autour d’un rafraichissement offert au publ
 ic. \n\n https://www.principocket.com/fr/event/1e7ffa97e9824c33c03428
 01bdcc8805/happy-hour-musical
LOCATION:Boulevard Louis II
URL:https://www.principocket.com/event/1e7ffa97e9824c33c0342801bdcc880
 5/6259
DTSTAMP:20260421T070301Z
CREATED:20260420T152534Z
LAST-MODIFIED:20260420T152534Z
END:VEVENT
END:VCALENDAR
