BEGIN:VCALENDAR
VERSION:2.0
PRODID:-//Microsoft Corporation//Outlook 16.0 MIMEDIR//FR
CALSCALE:GREGORIAN
METHOD:PUBLISH
X-WR-TIMEZONE:Europe/Monaco
X-MS-OLK-FORCEINSPECTOROPEN:"TRUE"
BEGIN:VTIMEZONE
TZID:Europe/Monaco
BEGIN:STANDARD
DTSTART:20261025T010000
TZOFFSETTO:+0100
TZOFFSETFROM:+0200
RRULE:FREQ=YEARLY;BYMONTH=11;BYDAY=1SU
END:STANDARD
BEGIN:DAYLIGHT
DTSTART:20260329T010000
TZOFFSETTO:+0200
TZOFFSETFROM:+0100
RRULE:FREQ=YEARLY;BYMONTH=3;BYDAY=2SU
END:DAYLIGHT
END:VTIMEZONE
BEGIN:VEVENT
UID:6258-7be28f871513863da48c8c4442263d83-principocket.com\n
DTSTART:20260610T183000
DTEND:20260610T194500
TRANSP:TRANSPARENT
IMAGE;VALUE=URI;DISPLAY=;FMTTYPE=image/png:https://app.monacoplatform.
 com/uploads/_T/_TWAzpgq-s.jpg
STATUS:CONFIRMED
SUMMARY:Happy Hour Musical
DESCRIPTION:Mercredi 10 juin 2026 de 18h30 à 19h45 - Auditorium Raini
 er III\n\nLes Happy Hours Musicaux sont des concerts de musique de cha
 mbre proposés et interprétés par les musiciens de l’OPMC\, géné
 ralement conçus autour d’un programme lié à un grand concert symp
 honique. Les œuvres sont présentées par les musiciens\, favorisant 
 un lien de proximité avec le public. Ces rendez-vous musicaux\, d’u
 ne heure environ\, sont suivis d’un moment de convivialité et d’
 échange avec les musiciens\, autour d’un rafraichissement offert au
  public. \n\n https://www.principocket.com/fr/event/7be28f871513863da
 48c8c4442263d83/happy-hour-musical
LOCATION:Boulevard Louis II
URL:https://www.principocket.com/event/7be28f871513863da48c8c4442263d8
 3/6258
DTSTAMP:20260421T051548Z
CREATED:20260420T152534Z
LAST-MODIFIED:20260420T152534Z
END:VEVENT
END:VCALENDAR
