BEGIN:VCALENDAR
VERSION:2.0
PRODID:-//Microsoft Corporation//Outlook 16.0 MIMEDIR//FR
CALSCALE:GREGORIAN
METHOD:PUBLISH
X-WR-TIMEZONE:Europe/Monaco
X-MS-OLK-FORCEINSPECTOROPEN:"TRUE"
BEGIN:VTIMEZONE
TZID:Europe/Monaco
BEGIN:STANDARD
DTSTART:20261025T010000
TZOFFSETTO:+0100
TZOFFSETFROM:+0200
RRULE:FREQ=YEARLY;BYMONTH=11;BYDAY=1SU
END:STANDARD
BEGIN:DAYLIGHT
DTSTART:20260329T010000
TZOFFSETTO:+0200
TZOFFSETFROM:+0100
RRULE:FREQ=YEARLY;BYMONTH=3;BYDAY=2SU
END:DAYLIGHT
END:VTIMEZONE
BEGIN:VEVENT
UID:6256-96f0ebda79da1ce2f8efd323111c9e70-principocket.com\n
DTSTART:20260617T193000
DTEND:20260617T213000
TRANSP:TRANSPARENT
IMAGE;VALUE=URI;DISPLAY=;FMTTYPE=image/png:https://app.monacoplatform.
 com/uploads/nr/nrdE7fUclR.png
STATUS:CONFIRMED
SUMMARY:Récital piano - Arcadi Volodos
DESCRIPTION:Mercredi 17 juin 2026 de 19h30 à 21h30 - Auditorium Raini
 er III\n\n\n\n https://www.principocket.com/fr/event/96f0ebda79da1ce2f
 8efd323111c9e70/recital-piano-arcadi-volodos
LOCATION:Boulevard Louis II
URL:https://www.principocket.com/event/96f0ebda79da1ce2f8efd323111c9e7
 0/6256
DTSTAMP:20260421T020527Z
CREATED:20260420T152533Z
LAST-MODIFIED:20260420T152533Z
END:VEVENT
END:VCALENDAR
