BEGIN:VCALENDAR
VERSION:2.0
PRODID:-//Microsoft Corporation//Outlook 16.0 MIMEDIR//FR
CALSCALE:GREGORIAN
METHOD:PUBLISH
X-WR-TIMEZONE:Europe/Monaco
X-MS-OLK-FORCEINSPECTOROPEN:"TRUE"
BEGIN:VTIMEZONE
TZID:Europe/Monaco
BEGIN:STANDARD
DTSTART:20261025T010000
TZOFFSETTO:+0100
TZOFFSETFROM:+0200
RRULE:FREQ=YEARLY;BYMONTH=11;BYDAY=1SU
END:STANDARD
BEGIN:DAYLIGHT
DTSTART:20260329T010000
TZOFFSETTO:+0200
TZOFFSETFROM:+0100
RRULE:FREQ=YEARLY;BYMONTH=3;BYDAY=2SU
END:DAYLIGHT
END:VTIMEZONE
BEGIN:VEVENT
UID:6255-cdb99c8edb31eb1c621be6074af51317-principocket.com\n
DTSTART:20260531T180000
DTEND:20260531T194500
TRANSP:TRANSPARENT
IMAGE;VALUE=URI;DISPLAY=;FMTTYPE=image/png:https://app.monacoplatform.
 com/uploads/b1/b19h9yW9-B.png
STATUS:CONFIRMED
SUMMARY:Concert symphonique - K. Yamada – T. Mørk
DESCRIPTION:Dimanche 31 mai 2026 de 18h à 19h45 - Auditorium Rainier 
 III\n\n\n\n https://www.principocket.com/fr/event/cdb99c8edb31eb1c621b
 e6074af51317/concert-symphonique-k-yamada-t-mork
LOCATION:Boulevard Louis II
URL:https://www.principocket.com/event/cdb99c8edb31eb1c621be6074af5131
 7/6255
DTSTAMP:20260421T004507Z
CREATED:20260420T152533Z
LAST-MODIFIED:20260420T152533Z
END:VEVENT
END:VCALENDAR
