BEGIN:VCALENDAR
VERSION:2.0
PRODID:-//Microsoft Corporation//Outlook 16.0 MIMEDIR//FR
CALSCALE:GREGORIAN
METHOD:PUBLISH
X-WR-TIMEZONE:Europe/Monaco
X-MS-OLK-FORCEINSPECTOROPEN:"TRUE"
BEGIN:VTIMEZONE
TZID:Europe/Monaco
BEGIN:STANDARD
DTSTART:20261025T010000
TZOFFSETTO:+0100
TZOFFSETFROM:+0200
RRULE:FREQ=YEARLY;BYMONTH=11;BYDAY=1SU
END:STANDARD
BEGIN:DAYLIGHT
DTSTART:20260329T010000
TZOFFSETTO:+0200
TZOFFSETFROM:+0100
RRULE:FREQ=YEARLY;BYMONTH=3;BYDAY=2SU
END:DAYLIGHT
END:VTIMEZONE
BEGIN:VEVENT
UID:6254-82241ee31b7f86c9d67a6f1eb35b56f8-principocket.com\n
DTSTART:20260524T180000
DTEND:20260524T200000
TRANSP:TRANSPARENT
IMAGE;VALUE=URI;DISPLAY=;FMTTYPE=image/png:https://app.monacoplatform.
 com/uploads/Rb/RbSInPv8hh.png
STATUS:CONFIRMED
SUMMARY:Concert symphonique - E. Grandy – J.-Y. Thibaudet
DESCRIPTION:Dimanche 24 mai 2026 de 18h à 20h - Auditorium Rainier II
 I\n\n\n\n https://www.principocket.com/fr/event/82241ee31b7f86c9d67a6f
 1eb35b56f8/concert-symphonique-e-grandy-j-y-thibaudet
LOCATION:Boulevard Louis II
URL:https://www.principocket.com/event/82241ee31b7f86c9d67a6f1eb35b56f
 8/6254
DTSTAMP:20260420T231218Z
CREATED:20260420T153535Z
LAST-MODIFIED:20260420T153535Z
END:VEVENT
END:VCALENDAR
