BEGIN:VCALENDAR
VERSION:2.0
PRODID:-//Microsoft Corporation//Outlook 16.0 MIMEDIR//FR
CALSCALE:GREGORIAN
METHOD:PUBLISH
X-WR-TIMEZONE:Europe/Monaco
X-MS-OLK-FORCEINSPECTOROPEN:"TRUE"
BEGIN:VTIMEZONE
TZID:Europe/Monaco
BEGIN:STANDARD
DTSTART:20261025T010000
TZOFFSETTO:+0100
TZOFFSETFROM:+0200
RRULE:FREQ=YEARLY;BYMONTH=11;BYDAY=1SU
END:STANDARD
BEGIN:DAYLIGHT
DTSTART:20260329T010000
TZOFFSETTO:+0200
TZOFFSETFROM:+0100
RRULE:FREQ=YEARLY;BYMONTH=3;BYDAY=2SU
END:DAYLIGHT
END:VTIMEZONE
BEGIN:VEVENT
UID:6253-8525a1cf24140957c5680d08c274f1d9-principocket.com\n
DTSTART:20260515T193000
DTEND:20260515T210000
TRANSP:TRANSPARENT
IMAGE;VALUE=URI;DISPLAY=;FMTTYPE=image/png:https://app.monacoplatform.
 com/uploads/HZ/HZiGNEWH4n.png
STATUS:CONFIRMED
SUMMARY:Musique de chambre - Daniel Lozakovich
DESCRIPTION:Vendredi 15 mai 2026 de 19h30 à 21h - Auditorium Rainier 
 III\n\n\n\n https://www.principocket.com/fr/event/8525a1cf24140957c568
 0d08c274f1d9/musique-de-chambre-daniel-lozakovich
LOCATION:Boulevard Louis II
URL:https://www.principocket.com/event/8525a1cf24140957c5680d08c274f1d
 9/6253
DTSTAMP:20260420T214110Z
CREATED:20260420T152533Z
LAST-MODIFIED:20260420T152533Z
END:VEVENT
END:VCALENDAR
