BEGIN:VCALENDAR
VERSION:2.0
PRODID:-//Microsoft Corporation//Outlook 16.0 MIMEDIR//FR
CALSCALE:GREGORIAN
METHOD:PUBLISH
X-WR-TIMEZONE:Europe/Monaco
X-MS-OLK-FORCEINSPECTOROPEN:"TRUE"
BEGIN:VTIMEZONE
TZID:Europe/Monaco
BEGIN:STANDARD
DTSTART:20261025T010000
TZOFFSETTO:+0100
TZOFFSETFROM:+0200
RRULE:FREQ=YEARLY;BYMONTH=11;BYDAY=1SU
END:STANDARD
BEGIN:DAYLIGHT
DTSTART:20260329T010000
TZOFFSETTO:+0200
TZOFFSETFROM:+0100
RRULE:FREQ=YEARLY;BYMONTH=3;BYDAY=2SU
END:DAYLIGHT
END:VTIMEZONE
BEGIN:VEVENT
UID:6252-a0a6aeaea3935adf31defe81bd590351-principocket.com\n
DTSTART:20260513T200000
DTEND:20260513T213000
TRANSP:TRANSPARENT
IMAGE;VALUE=URI;DISPLAY=;FMTTYPE=image/png:https://app.monacoplatform.
 com/uploads/Bj/BjPHPBbsxK.jpg
STATUS:CONFIRMED
SUMMARY:Mon jour de chance
DESCRIPTION:Mercredi 13 mai 2026 de 20h à 21h30 - Grimaldi Forum Mona
 co\n\nSpectacle au Grimaldi Forum\n\n https://www.principocket.com/fr/
 event/a0a6aeaea3935adf31defe81bd590351/mon-jour-de-chance
LOCATION:10\, avenue Princesse Grace
URL:https://www.principocket.com/event/a0a6aeaea3935adf31defe81bd59035
 1/6252
DTSTAMP:20260420T213946Z
CREATED:20260420T152533Z
LAST-MODIFIED:20260420T152533Z
END:VEVENT
END:VCALENDAR
