BEGIN:VCALENDAR
VERSION:2.0
PRODID:-//Microsoft Corporation//Outlook 16.0 MIMEDIR//FR
CALSCALE:GREGORIAN
METHOD:PUBLISH
X-WR-TIMEZONE:Europe/Monaco
X-MS-OLK-FORCEINSPECTOROPEN:"TRUE"
BEGIN:VTIMEZONE
TZID:Europe/Monaco
BEGIN:STANDARD
DTSTART:20261025T010000
TZOFFSETTO:+0100
TZOFFSETFROM:+0200
RRULE:FREQ=YEARLY;BYMONTH=11;BYDAY=1SU
END:STANDARD
BEGIN:DAYLIGHT
DTSTART:20260329T010000
TZOFFSETTO:+0200
TZOFFSETFROM:+0100
RRULE:FREQ=YEARLY;BYMONTH=3;BYDAY=2SU
END:DAYLIGHT
END:VTIMEZONE
BEGIN:VEVENT
UID:6238-da7e5c6a062ff13434334264204d914a-principocket.com\n
DTSTART:20260501T070000
DTEND:20260501T174000
TRANSP:TRANSPARENT
IMAGE;VALUE=URI;DISPLAY=;FMTTYPE=image/png:https://app.monacoplatform.
 com/uploads/2b/2bOd9-3w2a.jpg
STATUS:CONFIRMED
SUMMARY:Ouverture Stade Nautique Rainier III
DESCRIPTION:Vendredi 1 mai 2026 de 07h à 17h40 - Stade Nautique Raini
 er III\n\n\n\n https://www.principocket.com/fr/event/da7e5c6a062ff1343
 4334264204d914a/ouverture-stade-nautique-rainier-iii
LOCATION:Route de la Piscine
URL:https://www.principocket.com/event/da7e5c6a062ff13434334264204d914
 a/6238
DTSTAMP:20260420T182053Z
CREATED:20260420T152534Z
LAST-MODIFIED:20260420T152534Z
END:VEVENT
END:VCALENDAR
