BEGIN:VCALENDAR
VERSION:2.0
PRODID:-//Microsoft Corporation//Outlook 16.0 MIMEDIR//FR
CALSCALE:GREGORIAN
METHOD:PUBLISH
X-WR-TIMEZONE:Europe/Monaco
X-MS-OLK-FORCEINSPECTOROPEN:"TRUE"
BEGIN:VTIMEZONE
TZID:Europe/Monaco
BEGIN:STANDARD
DTSTART:20261025T010000
TZOFFSETTO:+0100
TZOFFSETFROM:+0200
RRULE:FREQ=YEARLY;BYMONTH=11;BYDAY=1SU
END:STANDARD
BEGIN:DAYLIGHT
DTSTART:20260329T010000
TZOFFSETTO:+0200
TZOFFSETFROM:+0100
RRULE:FREQ=YEARLY;BYMONTH=3;BYDAY=2SU
END:DAYLIGHT
END:VTIMEZONE
BEGIN:VEVENT
UID:6237-d6dca6a62279cb237d0e9e42d0dc2e7e-principocket.com\n
DTSTART:20260408T090000
DTEND:20261005T190000
TRANSP:TRANSPARENT
IMAGE;VALUE=URI;DISPLAY=;FMTTYPE=image/png:https://app.monacoplatform.
 com/uploads/VR/VRwxhBbm_D.jpg
STATUS:CONFIRMED
SUMMARY:Exposition - Patrimoine en danger
DESCRIPTION:Du mercredi 8 avril au dimanche 4 octobre 2026\, de 09h à
  19h - Les jardins Saint-Martin & Sainte Barbe\n\n\n\n https://www.pri
 ncipocket.com/fr/event/d6dca6a62279cb237d0e9e42d0dc2e7e/exposition-pat
 rimoine-en-danger
LOCATION:Avenue Saint-Martin
URL:https://www.principocket.com/event/d6dca6a62279cb237d0e9e42d0dc2e7
 e/6237
DTSTAMP:20260420T194715Z
CREATED:20260420T152534Z
LAST-MODIFIED:20260420T152534Z
END:VEVENT
END:VCALENDAR
