BEGIN:VCALENDAR
VERSION:2.0
PRODID:-//Microsoft Corporation//Outlook 16.0 MIMEDIR//FR
CALSCALE:GREGORIAN
METHOD:PUBLISH
X-WR-TIMEZONE:Europe/Monaco
X-MS-OLK-FORCEINSPECTOROPEN:"TRUE"
BEGIN:VTIMEZONE
TZID:Europe/Monaco
BEGIN:STANDARD
DTSTART:20261025T010000
TZOFFSETTO:+0100
TZOFFSETFROM:+0200
RRULE:FREQ=YEARLY;BYMONTH=11;BYDAY=1SU
END:STANDARD
BEGIN:DAYLIGHT
DTSTART:20260329T010000
TZOFFSETTO:+0200
TZOFFSETFROM:+0100
RRULE:FREQ=YEARLY;BYMONTH=3;BYDAY=2SU
END:DAYLIGHT
END:VTIMEZONE
BEGIN:VEVENT
UID:6235-695e90e5bb16d31903c17ffb4ce2d6ba-principocket.com\n
DTSTART:20260420T140000
DTEND:20260424T163000
TRANSP:TRANSPARENT
IMAGE;VALUE=URI;DISPLAY=;FMTTYPE=image/png:https://app.monacoplatform.
 com/uploads/_c/_cq7NXjM2v.jpg
STATUS:CONFIRMED
SUMMARY:Atelier jeune public - La Nature à l'oeuvre
DESCRIPTION:Du lundi 20 au jeudi 23 avril 2026\, de 14h à 16h30 - Nou
 veau Musée National de Monaco - Villa Paloma\n\nCet atelier propose d
 ’explorer les origines de la création sur textile.\n\n https://www.
 principocket.com/fr/event/695e90e5bb16d31903c17ffb4ce2d6ba/atelier-jeu
 ne-public-la-nature-a-l-oeuvre
LOCATION:56\, boulevard du Jardin Exotique
URL:https://www.principocket.com/event/695e90e5bb16d31903c17ffb4ce2d6b
 a/6235
DTSTAMP:20260420T214419Z
CREATED:20260420T152534Z
LAST-MODIFIED:20260420T152534Z
END:VEVENT
END:VCALENDAR
