BEGIN:VCALENDAR
VERSION:2.0
PRODID:-//Microsoft Corporation//Outlook 16.0 MIMEDIR//FR
CALSCALE:GREGORIAN
METHOD:PUBLISH
X-WR-TIMEZONE:Europe/Monaco
X-MS-OLK-FORCEINSPECTOROPEN:"TRUE"
BEGIN:VTIMEZONE
TZID:Europe/Monaco
BEGIN:STANDARD
DTSTART:20261025T010000
TZOFFSETTO:+0100
TZOFFSETFROM:+0200
RRULE:FREQ=YEARLY;BYMONTH=11;BYDAY=1SU
END:STANDARD
BEGIN:DAYLIGHT
DTSTART:20260329T010000
TZOFFSETTO:+0200
TZOFFSETFROM:+0100
RRULE:FREQ=YEARLY;BYMONTH=3;BYDAY=2SU
END:DAYLIGHT
END:VTIMEZONE
BEGIN:VEVENT
UID:6234-023ee7b1751bfd1c569e95e3fc927078-principocket.com\n
DTSTART:20260428T121500
DTEND:20260428T133000
TRANSP:TRANSPARENT
IMAGE;VALUE=URI;DISPLAY=;FMTTYPE=image/png:https://app.monacoplatform.
 com/uploads/LT/LTJpHJ_KSg.png
STATUS:CONFIRMED
SUMMARY:Présentation du 65e Festival de Télévision de Monte-Carlo
DESCRIPTION:Mardi 28 avril 2026 de 12h15 à 13h30 - Médiathèque Caro
 line\n\n\n\n https://www.principocket.com/fr/event/023ee7b1751bfd1c569
 e95e3fc927078/presentation-du-65e-festival-de-television-de-monte-carl
 o
LOCATION:5 Promenade Honoré II\, Monaco
URL:https://www.principocket.com/event/023ee7b1751bfd1c569e95e3fc92707
 8/6234
DTSTAMP:20260420T201326Z
CREATED:20260420T152534Z
LAST-MODIFIED:20260420T152534Z
END:VEVENT
END:VCALENDAR
