BEGIN:VCALENDAR
VERSION:2.0
PRODID:-//Microsoft Corporation//Outlook 16.0 MIMEDIR//FR
CALSCALE:GREGORIAN
METHOD:PUBLISH
X-WR-TIMEZONE:Europe/Monaco
X-MS-OLK-FORCEINSPECTOROPEN:"TRUE"
BEGIN:VTIMEZONE
TZID:Europe/Monaco
BEGIN:STANDARD
DTSTART:20261025T010000
TZOFFSETTO:+0100
TZOFFSETFROM:+0200
RRULE:FREQ=YEARLY;BYMONTH=11;BYDAY=1SU
END:STANDARD
BEGIN:DAYLIGHT
DTSTART:20260329T010000
TZOFFSETTO:+0200
TZOFFSETFROM:+0100
RRULE:FREQ=YEARLY;BYMONTH=3;BYDAY=2SU
END:DAYLIGHT
END:VTIMEZONE
BEGIN:VEVENT
UID:6233-c6036bf0104807ec01b08c41addcd139-principocket.com\n
DTSTART:20260421T121500
DTEND:20260421T134500
TRANSP:TRANSPARENT
IMAGE;VALUE=URI;DISPLAY=;FMTTYPE=image/png:https://app.monacoplatform.
 com/uploads/PC/PCWKtEEi0G.png
STATUS:CONFIRMED
SUMMARY:Sieste Musicale - Instant détente pendant la pause déjeuner
DESCRIPTION:Mardi 21 avril 2026 de 12h15 à 13h45 - Médiathèque Caro
 line\n\n\n\n https://www.principocket.com/fr/event/c6036bf0104807ec01b
 08c41addcd139/sieste-musicale-instant-detente-pendant-la-pause-dejeune
 r
LOCATION:5 Promenade Honoré II\, Monaco
URL:https://www.principocket.com/event/c6036bf0104807ec01b08c41addcd13
 9/6233
DTSTAMP:20260420T201148Z
CREATED:20260420T152534Z
LAST-MODIFIED:20260420T152534Z
END:VEVENT
END:VCALENDAR
