BEGIN:VCALENDAR
VERSION:2.0
PRODID:-//Microsoft Corporation//Outlook 16.0 MIMEDIR//FR
CALSCALE:GREGORIAN
METHOD:PUBLISH
X-WR-TIMEZONE:Europe/Monaco
X-MS-OLK-FORCEINSPECTOROPEN:"TRUE"
BEGIN:VTIMEZONE
TZID:Europe/Monaco
BEGIN:STANDARD
DTSTART:20261025T010000
TZOFFSETTO:+0100
TZOFFSETFROM:+0200
RRULE:FREQ=YEARLY;BYMONTH=11;BYDAY=1SU
END:STANDARD
BEGIN:DAYLIGHT
DTSTART:20260329T010000
TZOFFSETTO:+0200
TZOFFSETFROM:+0100
RRULE:FREQ=YEARLY;BYMONTH=3;BYDAY=2SU
END:DAYLIGHT
END:VTIMEZONE
BEGIN:VEVENT
UID:6231-275b900af9648badb32e132113e068c0-principocket.com\n
DTSTART:20260505T121500
DTEND:20260527T134500
TRANSP:TRANSPARENT
IMAGE;VALUE=URI;DISPLAY=;FMTTYPE=image/png:https://app.monacoplatform.
 com/uploads/gt/gtMMwRzROU.png
STATUS:CONFIRMED
SUMMARY:Picnic Music - Un concert sur grand écran pour accompagner vo
 tre pause déjeuner
DESCRIPTION:Du mardi 5 au mardi 26 mai 2026\, de 12h15 à 13h45 - Méd
 iathèque Caroline\n\n\n\n https://www.principocket.com/fr/event/275b9
 00af9648badb32e132113e068c0/picnic-music-un-concert-sur-grand-ecran-po
 ur-accompagner-votre-pause-dejeuner
LOCATION:5 Promenade Honoré II\, Monaco
URL:https://www.principocket.com/event/275b900af9648badb32e132113e068c
 0/6231
DTSTAMP:20260420T201445Z
CREATED:20260420T152534Z
LAST-MODIFIED:20260420T152534Z
END:VEVENT
END:VCALENDAR
