BEGIN:VCALENDAR
VERSION:2.0
PRODID:-//Microsoft Corporation//Outlook 16.0 MIMEDIR//FR
CALSCALE:GREGORIAN
METHOD:PUBLISH
X-WR-TIMEZONE:Europe/Monaco
X-MS-OLK-FORCEINSPECTOROPEN:"TRUE"
BEGIN:VTIMEZONE
TZID:Europe/Monaco
BEGIN:STANDARD
DTSTART:20261025T010000
TZOFFSETTO:+0100
TZOFFSETFROM:+0200
RRULE:FREQ=YEARLY;BYMONTH=11;BYDAY=1SU
END:STANDARD
BEGIN:DAYLIGHT
DTSTART:20260329T010000
TZOFFSETTO:+0200
TZOFFSETFROM:+0100
RRULE:FREQ=YEARLY;BYMONTH=3;BYDAY=2SU
END:DAYLIGHT
END:VTIMEZONE
BEGIN:VEVENT
UID:6230-caa76b48e2aeb93b28dd05e708d59efa-principocket.com\n
DTSTART:20260505T183000
DTEND:20260505T200000
TRANSP:TRANSPARENT
IMAGE;VALUE=URI;DISPLAY=;FMTTYPE=image/png:https://app.monacoplatform.
 com/uploads/nK/nKVkSrzMUd.png
STATUS:CONFIRMED
SUMMARY:Parlons sciences - Géographie - Conférence - La Côte-d’Az
 ur : une emblématique destination tourisme durable ? par Jean-Pierre 
 Lozato-Giotart, Professeur honoraire Paris III Sorbonne
DESCRIPTION:Mardi 5 mai 2026 de 18h30 à 20h - Médiathèque Caroline\
 n\n\n\n https://www.principocket.com/fr/event/caa76b48e2aeb93b28dd05e7
 08d59efa/parlons-sciences-geographie-conference-la-cote-d-azur-une-emb
 lematique-destination-tourisme-durable-par-jean-pierre-lozato-giotart-
 professeur-honoraire-paris-iii-sorbonne
LOCATION:5 Promenade Honoré II\, Monaco
URL:https://www.principocket.com/event/caa76b48e2aeb93b28dd05e708d59ef
 a/6230
DTSTAMP:20260420T184830Z
CREATED:20260420T153633Z
LAST-MODIFIED:20260420T153633Z
END:VEVENT
END:VCALENDAR
