BEGIN:VCALENDAR
VERSION:2.0
PRODID:-//Microsoft Corporation//Outlook 16.0 MIMEDIR//FR
CALSCALE:GREGORIAN
METHOD:PUBLISH
X-WR-TIMEZONE:Europe/Monaco
X-MS-OLK-FORCEINSPECTOROPEN:"TRUE"
BEGIN:VTIMEZONE
TZID:Europe/Monaco
BEGIN:STANDARD
DTSTART:20261025T010000
TZOFFSETTO:+0100
TZOFFSETFROM:+0200
RRULE:FREQ=YEARLY;BYMONTH=11;BYDAY=1SU
END:STANDARD
BEGIN:DAYLIGHT
DTSTART:20260329T010000
TZOFFSETTO:+0200
TZOFFSETFROM:+0100
RRULE:FREQ=YEARLY;BYMONTH=3;BYDAY=2SU
END:DAYLIGHT
END:VTIMEZONE
BEGIN:VEVENT
UID:6229-ac8041930fdae6c91c3a41012758ea87-principocket.com\n
DTSTART:20260427T210000
DTEND:20260427T223000
TRANSP:TRANSPARENT
IMAGE;VALUE=URI;DISPLAY=;FMTTYPE=image/png:https://app.monacoplatform.
 com/uploads/WJ/WJ767i0vSK.jpg
STATUS:CONFIRMED
SUMMARY:Stand up Monaco
DESCRIPTION:Lundi 27 avril 2026 de 21h à 22h30 - Grimaldi Forum Monac
 o\n\nA 21h\n\n https://www.principocket.com/fr/event/ac8041930fdae6c91
 c3a41012758ea87/stand-up-monaco
LOCATION:10\, avenue Princesse Grace
URL:https://www.principocket.com/event/ac8041930fdae6c91c3a41012758ea8
 7/6229
DTSTAMP:20260420T200845Z
CREATED:20260420T152534Z
LAST-MODIFIED:20260420T152534Z
END:VEVENT
END:VCALENDAR
