BEGIN:VCALENDAR
VERSION:2.0
PRODID:-//Microsoft Corporation//Outlook 16.0 MIMEDIR//FR
CALSCALE:GREGORIAN
METHOD:PUBLISH
X-WR-TIMEZONE:Europe/Monaco
X-MS-OLK-FORCEINSPECTOROPEN:"TRUE"
BEGIN:VTIMEZONE
TZID:Europe/Monaco
BEGIN:STANDARD
DTSTART:20261025T010000
TZOFFSETTO:+0100
TZOFFSETFROM:+0200
RRULE:FREQ=YEARLY;BYMONTH=11;BYDAY=1SU
END:STANDARD
BEGIN:DAYLIGHT
DTSTART:20260329T010000
TZOFFSETTO:+0200
TZOFFSETFROM:+0100
RRULE:FREQ=YEARLY;BYMONTH=3;BYDAY=2SU
END:DAYLIGHT
END:VTIMEZONE
BEGIN:VEVENT
UID:6228-7902119939c56384e273399745bbecbd-principocket.com\n
DTSTART:20260427T190000
DTEND:20260427T203000
TRANSP:TRANSPARENT
IMAGE;VALUE=URI;DISPLAY=;FMTTYPE=image/png:https://app.monacoplatform.
 com/uploads/HF/HFCNujNKT8.jpg
STATUS:CONFIRMED
SUMMARY:Stand up Monaco
DESCRIPTION:Lundi 27 avril 2026 de 19h à 20h30 - Grimaldi Forum Monac
 o\n\nA 19h\n\n https://www.principocket.com/fr/event/7902119939c56384e
 273399745bbecbd/stand-up-monaco
LOCATION:10\, avenue Princesse Grace
URL:https://www.principocket.com/event/7902119939c56384e273399745bbecb
 d/6228
DTSTAMP:20260420T200841Z
CREATED:20260420T152534Z
LAST-MODIFIED:20260420T152534Z
END:VEVENT
END:VCALENDAR
