BEGIN:VCALENDAR
VERSION:2.0
PRODID:-//Microsoft Corporation//Outlook 16.0 MIMEDIR//FR
CALSCALE:GREGORIAN
METHOD:PUBLISH
X-WR-TIMEZONE:Europe/Monaco
X-MS-OLK-FORCEINSPECTOROPEN:"TRUE"
BEGIN:VTIMEZONE
TZID:Europe/Monaco
BEGIN:STANDARD
DTSTART:20261025T010000
TZOFFSETTO:+0100
TZOFFSETFROM:+0200
RRULE:FREQ=YEARLY;BYMONTH=11;BYDAY=1SU
END:STANDARD
BEGIN:DAYLIGHT
DTSTART:20260329T010000
TZOFFSETTO:+0200
TZOFFSETFROM:+0100
RRULE:FREQ=YEARLY;BYMONTH=3;BYDAY=2SU
END:DAYLIGHT
END:VTIMEZONE
BEGIN:VEVENT
UID:6225-d43019fc04f2a330101562cfd6d231e0-principocket.com\n
DTSTART:20260213T100000
DTEND:20260526T180000
TRANSP:TRANSPARENT
IMAGE;VALUE=URI;DISPLAY=;FMTTYPE=image/png:https://app.monacoplatform.
 com/uploads/SK/SKU86qmPIj.jpg
STATUS:CONFIRMED
SUMMARY:Flore Saunois, "Le Temps d'un ciel bleu"
DESCRIPTION:Du vendredi 13 février au lundi 25 mai 2026\, de 10h à 1
 8h - Nouveau Musée National de Monaco - Villa Paloma\n\n\n\n https://
 www.principocket.com/fr/event/d43019fc04f2a330101562cfd6d231e0/flore-s
 aunois-le-temps-d-un-ciel-bleu
LOCATION:56\, boulevard du Jardin Exotique
URL:https://www.principocket.com/event/d43019fc04f2a330101562cfd6d231e
 0/6225
DTSTAMP:20260420T201311Z
CREATED:20260420T152534Z
LAST-MODIFIED:20260420T152534Z
END:VEVENT
END:VCALENDAR
