BEGIN:VCALENDAR
VERSION:2.0
PRODID:-//Microsoft Corporation//Outlook 16.0 MIMEDIR//FR
CALSCALE:GREGORIAN
METHOD:PUBLISH
X-WR-TIMEZONE:Europe/Monaco
X-MS-OLK-FORCEINSPECTOROPEN:"TRUE"
BEGIN:VTIMEZONE
TZID:Europe/Monaco
BEGIN:STANDARD
DTSTART:20261025T010000
TZOFFSETTO:+0100
TZOFFSETFROM:+0200
RRULE:FREQ=YEARLY;BYMONTH=11;BYDAY=1SU
END:STANDARD
BEGIN:DAYLIGHT
DTSTART:20260329T010000
TZOFFSETTO:+0200
TZOFFSETFROM:+0100
RRULE:FREQ=YEARLY;BYMONTH=3;BYDAY=2SU
END:DAYLIGHT
END:VTIMEZONE
BEGIN:VEVENT
UID:6224-82b7e234ed7a230eb692e4611091d90c-principocket.com\n
DTSTART:20260502T220000
DTEND:20260504T030000
TRANSP:TRANSPARENT
IMAGE;VALUE=URI;DISPLAY=;FMTTYPE=image/png:https://app.monacoplatform.
 com/uploads/XV/XV9mVJaB4f.jpg
STATUS:CONFIRMED
SUMMARY:Electro Spring Party
DESCRIPTION:Du samedi 2 au dimanche 3 mai 2026\, de 22h à 03h - Grima
 ldi Forum Monaco\n\nLe samedi 2 mai 2026\, l’Espace Indigo - Grimald
 i Forum Monaco accueille une grande soirée électro à Monaco avec Fe
 der\, Nathalie Duchene et DJ Baloo. De 22h à 3h00\, vivez une nuit ry
 thmée par la house\, la techno et des performances live puissantes.\n
 \n https://www.principocket.com/fr/event/82b7e234ed7a230eb692e4611091d
 90c/electro-spring-party
LOCATION:10\, avenue Princesse Grace
URL:https://www.principocket.com/event/82b7e234ed7a230eb692e4611091d90
 c/6224
DTSTAMP:20260420T200739Z
CREATED:20260420T152534Z
LAST-MODIFIED:20260420T152534Z
END:VEVENT
END:VCALENDAR
