BEGIN:VCALENDAR
VERSION:2.0
PRODID:-//Microsoft Corporation//Outlook 16.0 MIMEDIR//FR
CALSCALE:GREGORIAN
METHOD:PUBLISH
X-WR-TIMEZONE:Europe/Monaco
X-MS-OLK-FORCEINSPECTOROPEN:"TRUE"
BEGIN:VTIMEZONE
TZID:Europe/Monaco
BEGIN:STANDARD
DTSTART:20261025T010000
TZOFFSETTO:+0100
TZOFFSETFROM:+0200
RRULE:FREQ=YEARLY;BYMONTH=11;BYDAY=1SU
END:STANDARD
BEGIN:DAYLIGHT
DTSTART:20260329T010000
TZOFFSETTO:+0200
TZOFFSETFROM:+0100
RRULE:FREQ=YEARLY;BYMONTH=3;BYDAY=2SU
END:DAYLIGHT
END:VTIMEZONE
BEGIN:VEVENT
UID:6223-ff1b3c88cb711bc1f91da7aeb1e98a58-principocket.com\n
DTSTART:20260423T200000
DTEND:20260423T214000
TRANSP:TRANSPARENT
IMAGE;VALUE=URI;DISPLAY=;FMTTYPE=image/png:https://app.monacoplatform.
 com/uploads/zF/zFFvFkVjdv.jpg
STATUS:CONFIRMED
SUMMARY:Le prix
DESCRIPTION:Jeudi 23 avril 2026 de 20h à 21h40 - Théâtre Princesse 
 Grace\n\nLe prix\ntexte Cyril Gely\n\n https://www.principocket.com/fr
 /event/ff1b3c88cb711bc1f91da7aeb1e98a58/le-prix
LOCATION:12\, avenue d'Ostende
URL:https://www.principocket.com/event/ff1b3c88cb711bc1f91da7aeb1e98a5
 8/6223
DTSTAMP:20260421T020159Z
CREATED:20260420T152534Z
LAST-MODIFIED:20260420T152534Z
END:VEVENT
END:VCALENDAR
