BEGIN:VCALENDAR
VERSION:2.0
PRODID:-//Microsoft Corporation//Outlook 16.0 MIMEDIR//FR
CALSCALE:GREGORIAN
METHOD:PUBLISH
X-WR-TIMEZONE:Europe/Monaco
X-MS-OLK-FORCEINSPECTOROPEN:"TRUE"
BEGIN:VTIMEZONE
TZID:Europe/Monaco
BEGIN:STANDARD
DTSTART:20261025T010000
TZOFFSETTO:+0100
TZOFFSETFROM:+0200
RRULE:FREQ=YEARLY;BYMONTH=11;BYDAY=1SU
END:STANDARD
BEGIN:DAYLIGHT
DTSTART:20260329T010000
TZOFFSETTO:+0200
TZOFFSETFROM:+0100
RRULE:FREQ=YEARLY;BYMONTH=3;BYDAY=2SU
END:DAYLIGHT
END:VTIMEZONE
BEGIN:VEVENT
UID:6219-482a306b6ace0f20ce75d24fe4cddbd9-principocket.com\n
DTSTART:20260429T193000
DTEND:20260429T210000
TRANSP:TRANSPARENT
IMAGE;VALUE=URI;DISPLAY=;FMTTYPE=image/png:https://app.monacoplatform.
 com/uploads/od/odLZ8ZdNy2.jpg
STATUS:CONFIRMED
SUMMARY:Core Meu
DESCRIPTION:Mercredi 29 avril 2026 de 19h30 à 21h - Grimaldi Forum Mo
 naco\n\nLes Ballets de Monte-Carlo présentent Core Meu. Chorégraphie
  de Jean-Christophe Maillot\, avec la participation d’Antonio Castri
 gnanò & Taranta Sounds.\n\n https://www.principocket.com/fr/event/482
 a306b6ace0f20ce75d24fe4cddbd9/core-meu
LOCATION:10\, avenue Princesse Grace
URL:https://www.principocket.com/event/482a306b6ace0f20ce75d24fe4cddbd
 9/6219
DTSTAMP:20260420T230835Z
CREATED:20260420T152534Z
LAST-MODIFIED:20260420T152534Z
END:VEVENT
END:VCALENDAR
