BEGIN:VCALENDAR
VERSION:2.0
PRODID:-//Microsoft Corporation//Outlook 16.0 MIMEDIR//FR
CALSCALE:GREGORIAN
METHOD:PUBLISH
X-WR-TIMEZONE:Europe/Monaco
X-MS-OLK-FORCEINSPECTOROPEN:"TRUE"
BEGIN:VTIMEZONE
TZID:Europe/Monaco
BEGIN:STANDARD
DTSTART:20261025T010000
TZOFFSETTO:+0100
TZOFFSETFROM:+0200
RRULE:FREQ=YEARLY;BYMONTH=11;BYDAY=1SU
END:STANDARD
BEGIN:DAYLIGHT
DTSTART:20260329T010000
TZOFFSETTO:+0200
TZOFFSETFROM:+0100
RRULE:FREQ=YEARLY;BYMONTH=3;BYDAY=2SU
END:DAYLIGHT
END:VTIMEZONE
BEGIN:VEVENT
UID:6218-9dfb87056b0868c5c630de8c6d82cbdd-principocket.com\n
DTSTART:20260430T193000
DTEND:20260430T210000
TRANSP:TRANSPARENT
IMAGE;VALUE=URI;DISPLAY=;FMTTYPE=image/png:https://app.monacoplatform.
 com/uploads/od/odLZ8ZdNy2.jpg
STATUS:CONFIRMED
SUMMARY:Core Meu
DESCRIPTION:Jeudi 30 avril 2026 de 19h30 à 21h - Grimaldi Forum Monac
 o\n\nLes Ballets de Monte-Carlo présentent Core Meu. Chorégraphie de
  Jean-Christophe Maillot\, avec la participation d’Antonio Castrigna
 nò & Taranta Sounds.\n\n https://www.principocket.com/fr/event/9dfb87
 056b0868c5c630de8c6d82cbdd/core-meu
LOCATION:10\, avenue Princesse Grace
URL:https://www.principocket.com/event/9dfb87056b0868c5c630de8c6d82cbd
 d/6218
DTSTAMP:20260421T004145Z
CREATED:20260420T152534Z
LAST-MODIFIED:20260420T152534Z
END:VEVENT
END:VCALENDAR
