BEGIN:VCALENDAR
VERSION:2.0
PRODID:-//Microsoft Corporation//Outlook 16.0 MIMEDIR//FR
CALSCALE:GREGORIAN
METHOD:PUBLISH
X-WR-TIMEZONE:Europe/Monaco
X-MS-OLK-FORCEINSPECTOROPEN:"TRUE"
BEGIN:VTIMEZONE
TZID:Europe/Monaco
BEGIN:STANDARD
DTSTART:20261025T010000
TZOFFSETTO:+0100
TZOFFSETFROM:+0200
RRULE:FREQ=YEARLY;BYMONTH=11;BYDAY=1SU
END:STANDARD
BEGIN:DAYLIGHT
DTSTART:20260329T010000
TZOFFSETTO:+0200
TZOFFSETFROM:+0100
RRULE:FREQ=YEARLY;BYMONTH=3;BYDAY=2SU
END:DAYLIGHT
END:VTIMEZONE
BEGIN:VEVENT
UID:6214-3d630484b39aa72f4c86146aac0c302d-principocket.com\n
DTSTART:20260506T193000
DTEND:20260506T210000
TRANSP:TRANSPARENT
IMAGE;VALUE=URI;DISPLAY=;FMTTYPE=image/png:https://app.monacoplatform.
 com/uploads/pr/prgeY_vDfj.png
STATUS:CONFIRMED
SUMMARY:Ciné concert - Chantage d’Alfred Hitchcok
DESCRIPTION:Mercredi 6 mai 2026 de 19h30 à 21h - Opéra Garnier Monte
 -Carlo\n\n\n\n https://www.principocket.com/fr/event/3d630484b39aa72f4
 c86146aac0c302d/cine-concert-chantage-d-alfred-hitchcok
LOCATION:Place du Casino
URL:https://www.principocket.com/event/3d630484b39aa72f4c86146aac0c302
 d/6214
DTSTAMP:20260420T231125Z
CREATED:20260420T152534Z
LAST-MODIFIED:20260420T152534Z
END:VEVENT
END:VCALENDAR
