BEGIN:VCALENDAR
VERSION:2.0
PRODID:-//Microsoft Corporation//Outlook 16.0 MIMEDIR//FR
CALSCALE:GREGORIAN
METHOD:PUBLISH
X-WR-TIMEZONE:Europe/Monaco
X-MS-OLK-FORCEINSPECTOROPEN:"TRUE"
BEGIN:VTIMEZONE
TZID:Europe/Monaco
BEGIN:STANDARD
DTSTART:20261025T010000
TZOFFSETTO:+0100
TZOFFSETFROM:+0200
RRULE:FREQ=YEARLY;BYMONTH=11;BYDAY=1SU
END:STANDARD
BEGIN:DAYLIGHT
DTSTART:20260329T010000
TZOFFSETTO:+0200
TZOFFSETFROM:+0100
RRULE:FREQ=YEARLY;BYMONTH=3;BYDAY=2SU
END:DAYLIGHT
END:VTIMEZONE
BEGIN:VEVENT
UID:6213-861748a6da9b90c6fc7265fb08081977-principocket.com\n
DTSTART:20260503T180000
DTEND:20260503T200000
TRANSP:TRANSPARENT
IMAGE;VALUE=URI;DISPLAY=;FMTTYPE=image/png:https://app.monacoplatform.
 com/uploads/nz/nz88ouwOUD.png
STATUS:CONFIRMED
SUMMARY:Concert symphonique - Y. Sado – J. Perianes
DESCRIPTION:Dimanche 3 mai 2026 de 18h à 20h - Auditorium Rainier III
 \n\n\n\n https://www.principocket.com/fr/event/861748a6da9b90c6fc7265f
 b08081977/concert-symphonique-y-sado-j-perianes
LOCATION:Boulevard Louis II
URL:https://www.principocket.com/event/861748a6da9b90c6fc7265fb0808197
 7/6213
DTSTAMP:20260420T214126Z
CREATED:20260420T152534Z
LAST-MODIFIED:20260420T152534Z
END:VEVENT
END:VCALENDAR
