BEGIN:VCALENDAR
VERSION:2.0
PRODID:-//Microsoft Corporation//Outlook 16.0 MIMEDIR//FR
CALSCALE:GREGORIAN
METHOD:PUBLISH
X-WR-TIMEZONE:Europe/Monaco
X-MS-OLK-FORCEINSPECTOROPEN:"TRUE"
BEGIN:VTIMEZONE
TZID:Europe/Monaco
BEGIN:STANDARD
DTSTART:20261025T010000
TZOFFSETTO:+0100
TZOFFSETFROM:+0200
RRULE:FREQ=YEARLY;BYMONTH=11;BYDAY=1SU
END:STANDARD
BEGIN:DAYLIGHT
DTSTART:20260329T010000
TZOFFSETTO:+0200
TZOFFSETFROM:+0100
RRULE:FREQ=YEARLY;BYMONTH=3;BYDAY=2SU
END:DAYLIGHT
END:VTIMEZONE
BEGIN:VEVENT
UID:6212-f954cabfaf53b1da69fd904a72075e6f-principocket.com\n
DTSTART:20260429T193000
DTEND:20260429T213000
TRANSP:TRANSPARENT
IMAGE;VALUE=URI;DISPLAY=;FMTTYPE=image/png:https://app.monacoplatform.
 com/uploads/f1/f1hMsS3OYg.png
STATUS:CONFIRMED
SUMMARY:Récital Elisabeth Leonskaja
DESCRIPTION:Mercredi 29 avril 2026 de 19h30 à 21h30 - Auditorium Rain
 ier III\n\n\n\n https://www.principocket.com/fr/event/f954cabfaf53b1da
 69fd904a72075e6f/recital-elisabeth-leonskaja
LOCATION:Boulevard Louis II
URL:https://www.principocket.com/event/f954cabfaf53b1da69fd904a72075e6
 f/6212
DTSTAMP:20260420T231028Z
CREATED:20260420T152533Z
LAST-MODIFIED:20260420T152533Z
END:VEVENT
END:VCALENDAR
