BEGIN:VCALENDAR
VERSION:2.0
PRODID:-//Microsoft Corporation//Outlook 16.0 MIMEDIR//FR
CALSCALE:GREGORIAN
METHOD:PUBLISH
X-WR-TIMEZONE:Europe/Monaco
X-MS-OLK-FORCEINSPECTOROPEN:"TRUE"
BEGIN:VTIMEZONE
TZID:Europe/Monaco
BEGIN:STANDARD
DTSTART:20261025T010000
TZOFFSETTO:+0100
TZOFFSETFROM:+0200
RRULE:FREQ=YEARLY;BYMONTH=11;BYDAY=1SU
END:STANDARD
BEGIN:DAYLIGHT
DTSTART:20260329T010000
TZOFFSETTO:+0200
TZOFFSETFROM:+0100
RRULE:FREQ=YEARLY;BYMONTH=3;BYDAY=2SU
END:DAYLIGHT
END:VTIMEZONE
BEGIN:VEVENT
UID:6209-e9cfb5bda2194dafd0ad67691fb1e2ee-principocket.com\n
DTSTART:20260429T200000
DTEND:20260429T214500
TRANSP:TRANSPARENT
IMAGE;VALUE=URI;DISPLAY=;FMTTYPE=image/png:https://app.monacoplatform.
 com/uploads/a0/a0gJH2YB48.jpg
STATUS:CONFIRMED
SUMMARY:La veuve rusée
DESCRIPTION:Mercredi 29 avril 2026 de 20h à 21h45 - Grimaldi Forum Mo
 naco\n\nLa veuve rusée\ntexte Carlo Goldoni\n\n https://www.principoc
 ket.com/fr/event/e9cfb5bda2194dafd0ad67691fb1e2ee/la-veuve-rusee
LOCATION:10\, avenue Princesse Grace
URL:https://www.principocket.com/event/e9cfb5bda2194dafd0ad67691fb1e2e
 e/6209
DTSTAMP:20260420T184143Z
CREATED:20260420T152533Z
LAST-MODIFIED:20260420T152533Z
END:VEVENT
END:VCALENDAR
