BEGIN:VCALENDAR
VERSION:2.0
PRODID:-//Microsoft Corporation//Outlook 16.0 MIMEDIR//FR
CALSCALE:GREGORIAN
METHOD:PUBLISH
X-WR-TIMEZONE:Europe/Monaco
X-MS-OLK-FORCEINSPECTOROPEN:"TRUE"
BEGIN:VTIMEZONE
TZID:Europe/Monaco
BEGIN:STANDARD
DTSTART:20261025T010000
TZOFFSETTO:+0100
TZOFFSETFROM:+0200
RRULE:FREQ=YEARLY;BYMONTH=11;BYDAY=1SU
END:STANDARD
BEGIN:DAYLIGHT
DTSTART:20260329T010000
TZOFFSETTO:+0200
TZOFFSETFROM:+0100
RRULE:FREQ=YEARLY;BYMONTH=3;BYDAY=2SU
END:DAYLIGHT
END:VTIMEZONE
BEGIN:VEVENT
UID:6207-f67bdfd969f137be0037214fc0d45106-principocket.com\n
DTSTART:20260522T200000
DTEND:20260522T230000
TRANSP:TRANSPARENT
IMAGE;VALUE=URI;DISPLAY=;FMTTYPE=image/png:https://app.monacoplatform.
 com/uploads/iR/iRqzY-hVPv.png
STATUS:CONFIRMED
SUMMARY:⚡️ NIGHT FEVER ⚡️- Comédie Musicale
DESCRIPTION:Vendredi 22 mai 2026 de 20h à 23h - Théâtre des Variét
 és\n\nAprès le succès de « ZE MUSICAL »\, l’association monéga
 sque « Rires Danse Voix » présente :\n\n⚡️ NIGHT FEVER ⚡️\n
 \nUne comédie musicale originale avec des tubes internationaux et des
  titres inédits composés spécialement pour cette belle aventure ! \
 n\nDu rock\, du disco\, de la danse et des rires… Ne manquez pas une
  superbe opportunité de vous divertir le 22 mai prochain au Théâtre
  des Variétés de Monaco 🎭 \n\nUne partie des recettes sera revers
 ée à l’association « Save Us Monaco »\, qui lutte contre les mal
 adies génétiques\, et en particulier contre la mucoviscidose. \n\nN
 ’attendez pas et réservez vos places au 06 20 23 75 03 🎫\n\n htt
 ps://www.principocket.com/fr/event/f67bdfd969f137be0037214fc0d45106/ni
 ght-fever-comedie-musicale
LOCATION:1\, boulevard Albert Ier
URL:https://www.principocket.com/event/f67bdfd969f137be0037214fc0d4510
 6/6207
DTSTAMP:20260422T140206Z
CREATED:20260418T171158Z
LAST-MODIFIED:20260418T171158Z
END:VEVENT
END:VCALENDAR
