BEGIN:VCALENDAR
VERSION:2.0
PRODID:-//Microsoft Corporation//Outlook 16.0 MIMEDIR//FR
CALSCALE:GREGORIAN
METHOD:PUBLISH
X-WR-TIMEZONE:Europe/Monaco
X-MS-OLK-FORCEINSPECTOROPEN:"TRUE"
BEGIN:VTIMEZONE
TZID:Europe/Monaco
BEGIN:STANDARD
DTSTART:20201025T010000
TZOFFSETTO:+0100
TZOFFSETFROM:+0200
RRULE:FREQ=YEARLY;BYMONTH=11;BYDAY=1SU
END:STANDARD
BEGIN:DAYLIGHT
DTSTART:20200329T010000
TZOFFSETTO:+0200
TZOFFSETFROM:+0100
RRULE:FREQ=YEARLY;BYMONTH=3;BYDAY=2SU
END:DAYLIGHT
END:VTIMEZONE
BEGIN:VEVENT
UID:610-3824c2e8a9460a2af9aaf745aa0bc380-principocket.com\n
DTSTART:20201120T203000
DTEND:20201120T203000
TRANSP:TRANSPARENT
IMAGE;VALUE=URI;DISPLAY=;FMTTYPE=image/png:https://app.monacoplatform.
 com/uploads/Zo/ZoMy0z13rY.jpg
STATUS:CONFIRMED
SUMMARY:Monte-Carlo Jazz Festival 2020
DESCRIPTION:Vendredi 20 novembre 2020\, à 20h30\, Le Sporting Monte-C
 arlo - Salle des Etoiles\n\n15e Monte-Carlo Jazz Festival 2020 : conce
 rt par Thomas Dutronc\n\n https://www.principocket.com/fr/event/3824c2
 e8a9460a2af9aaf745aa0bc380/monte-carlo-jazz-festival-2020
LOCATION:26\, avenue Princesse Grace
URL:https://www.principocket.com/event/3824c2e8a9460a2af9aaf745aa0bc380/610
DTSTAMP:20260421T051833Z
CREATED:20201026T094347Z
LAST-MODIFIED:20201026T094347Z
END:VEVENT
END:VCALENDAR
