BEGIN:VCALENDAR
VERSION:2.0
PRODID:-//Microsoft Corporation//Outlook 16.0 MIMEDIR//FR
CALSCALE:GREGORIAN
METHOD:PUBLISH
X-WR-TIMEZONE:Europe/Monaco
X-MS-OLK-FORCEINSPECTOROPEN:"TRUE"
BEGIN:VTIMEZONE
TZID:Europe/Monaco
BEGIN:STANDARD
DTSTART:20201025T010000
TZOFFSETTO:+0100
TZOFFSETFROM:+0200
RRULE:FREQ=YEARLY;BYMONTH=11;BYDAY=1SU
END:STANDARD
BEGIN:DAYLIGHT
DTSTART:20200329T010000
TZOFFSETTO:+0200
TZOFFSETFROM:+0100
RRULE:FREQ=YEARLY;BYMONTH=3;BYDAY=2SU
END:DAYLIGHT
END:VTIMEZONE
BEGIN:VEVENT
UID:609-e3c2ace86e7198901d05e23115620083-principocket.com\n
DTSTART:20201116T203000
DTEND:20201116T203000
TRANSP:TRANSPARENT
IMAGE;VALUE=URI;DISPLAY=;FMTTYPE=image/png:https://app.monacoplatform.
 com/uploads/dx/dxPpPeb-1l.jpg
STATUS:CONFIRMED
SUMMARY:Let’s Get Lost
DESCRIPTION:Lundi 16 novembre 2020\, à 20h30\, Opéra de Monte-Carlo 
 - Salle Garnier\n\nTout l'Art du Cinéma - Jazz et cinéma : projectio
 n du film "Let’s Get Lost" de Bruce Weber\, organisée par l'Institu
 t audiovisuel de Monaco en partenariat avec le Monte-Carlo Jazz Festiv
 al\n\n https://www.principocket.com/fr/event/e3c2ace86e7198901d05e2311
 5620083/let-s-get-lost
LOCATION:Place du Casino
URL:https://www.principocket.com/event/e3c2ace86e7198901d05e23115620083/609
DTSTAMP:20260421T033919Z
CREATED:20201026T094347Z
LAST-MODIFIED:20201026T094347Z
END:VEVENT
END:VCALENDAR
