BEGIN:VCALENDAR
VERSION:2.0
PRODID:-//Microsoft Corporation//Outlook 16.0 MIMEDIR//FR
CALSCALE:GREGORIAN
METHOD:PUBLISH
X-WR-TIMEZONE:Europe/Monaco
X-MS-OLK-FORCEINSPECTOROPEN:"TRUE"
BEGIN:VTIMEZONE
TZID:Europe/Monaco
BEGIN:STANDARD
DTSTART:20201025T010000
TZOFFSETTO:+0100
TZOFFSETFROM:+0200
RRULE:FREQ=YEARLY;BYMONTH=11;BYDAY=1SU
END:STANDARD
BEGIN:DAYLIGHT
DTSTART:20200329T010000
TZOFFSETTO:+0200
TZOFFSETFROM:+0100
RRULE:FREQ=YEARLY;BYMONTH=3;BYDAY=2SU
END:DAYLIGHT
END:VTIMEZONE
BEGIN:VEVENT
UID:608-f70274612f22ce8836db9022dc6e75e1-principocket.com\n
DTSTART:20201116T200000
DTEND:20201116T200000
TRANSP:TRANSPARENT
IMAGE;VALUE=URI;DISPLAY=;FMTTYPE=image/png:https://app.monacoplatform.
 com/uploads/Wp/WpDmoHRixl.jpg
STATUS:CONFIRMED
SUMMARY:Juste la fin du monde
DESCRIPTION:Lundi 16 novembre 2020\, à 20h\, Agora Maison Diocésaine
  - Salle Polyvalente\n\nProjection du film "Juste la fin du monde" de 
 Xavier Dolan\n\n https://www.principocket.com/fr/event/f70274612f22ce8
 836db9022dc6e75e1/juste-la-fin-du-monde
LOCATION:13\, rue Bel Respiro
URL:https://www.principocket.com/event/f70274612f22ce8836db9022dc6e75e1/608
DTSTAMP:20260421T020246Z
CREATED:20201026T094347Z
LAST-MODIFIED:20201026T094347Z
END:VEVENT
END:VCALENDAR
