BEGIN:VCALENDAR
VERSION:2.0
PRODID:-//Microsoft Corporation//Outlook 16.0 MIMEDIR//FR
CALSCALE:GREGORIAN
METHOD:PUBLISH
X-WR-TIMEZONE:Europe/Monaco
X-MS-OLK-FORCEINSPECTOROPEN:"TRUE"
BEGIN:VTIMEZONE
TZID:Europe/Monaco
BEGIN:STANDARD
DTSTART:20201025T010000
TZOFFSETTO:+0100
TZOFFSETFROM:+0200
RRULE:FREQ=YEARLY;BYMONTH=11;BYDAY=1SU
END:STANDARD
BEGIN:DAYLIGHT
DTSTART:20200329T010000
TZOFFSETTO:+0200
TZOFFSETFROM:+0100
RRULE:FREQ=YEARLY;BYMONTH=3;BYDAY=2SU
END:DAYLIGHT
END:VTIMEZONE
BEGIN:VEVENT
UID:594-9ddc741c1ce9eacdbf3752c01866f2b6-principocket.com\n
DTSTART:20201012T200000
DTEND:20201012T200000
TRANSP:TRANSPARENT
IMAGE;VALUE=URI;DISPLAY=;FMTTYPE=image/png:https://app.monacoplatform.
 com/uploads/WW/WWOR_WOCxD.jpg
STATUS:CONFIRMED
SUMMARY:Tolkien
DESCRIPTION:Lundi 12 octobre 2020\, à 20h\, Agora Maison Diocésaine 
 - Salle Polyvalente\n\nProjection du film "Tolkien" de Dome Karukoski\
 n\n https://www.principocket.com/fr/event/9ddc741c1ce9eacdbf3752c01866
 f2b6/tolkien
LOCATION:13\, rue Bel Respiro
URL:https://www.principocket.com/event/9ddc741c1ce9eacdbf3752c01866f2b6/594
DTSTAMP:20260420T103228Z
CREATED:20201005T102446Z
LAST-MODIFIED:20201005T102446Z
END:VEVENT
END:VCALENDAR
