BEGIN:VCALENDAR
VERSION:2.0
PRODID:-//Microsoft Corporation//Outlook 16.0 MIMEDIR//FR
CALSCALE:GREGORIAN
METHOD:PUBLISH
X-WR-TIMEZONE:Europe/Monaco
X-MS-OLK-FORCEINSPECTOROPEN:"TRUE"
BEGIN:VTIMEZONE
TZID:Europe/Monaco
BEGIN:STANDARD
DTSTART:20201025T010000
TZOFFSETTO:+0100
TZOFFSETFROM:+0200
RRULE:FREQ=YEARLY;BYMONTH=11;BYDAY=1SU
END:STANDARD
BEGIN:DAYLIGHT
DTSTART:20200329T010000
TZOFFSETTO:+0200
TZOFFSETFROM:+0100
RRULE:FREQ=YEARLY;BYMONTH=3;BYDAY=2SU
END:DAYLIGHT
END:VTIMEZONE
BEGIN:VEVENT
UID:569-c022961c48d5124f19473cbe03a4aa43-principocket.com\n
DTSTART:20201207T203000
DTEND:20201207T203000
TRANSP:TRANSPARENT
IMAGE;VALUE=URI;DISPLAY=;FMTTYPE=image/png:https://app.monacoplatform.
 com/uploads/YC/YCKWYTZ_CK.jpg
STATUS:CONFIRMED
SUMMARY:How to become a Parisian in one hour ?
DESCRIPTION:Lundi 7 décembre 2020\, à 20h30\, Théâtre Princesse Gr
 ace\n\n"How to become a Parisian in one hour ?" de et avec Olivier Gir
 oud\n\n https://www.principocket.com/fr/event/c022961c48d5124f19473cbe
 03a4aa43/how-to-become-a-parisian-in-one-hour
LOCATION:12\, avenue d'Ostende
URL:https://www.principocket.com/event/c022961c48d5124f19473cbe03a4aa43/569
DTSTAMP:20260421T042952Z
CREATED:20201026T094347Z
LAST-MODIFIED:20201026T094347Z
END:VEVENT
END:VCALENDAR
