BEGIN:VCALENDAR
VERSION:2.0
PRODID:-//Microsoft Corporation//Outlook 16.0 MIMEDIR//FR
CALSCALE:GREGORIAN
METHOD:PUBLISH
X-WR-TIMEZONE:Europe/Monaco
X-MS-OLK-FORCEINSPECTOROPEN:"TRUE"
BEGIN:VTIMEZONE
TZID:Europe/Monaco
BEGIN:STANDARD
DTSTART:20201025T010000
TZOFFSETTO:+0100
TZOFFSETFROM:+0200
RRULE:FREQ=YEARLY;BYMONTH=11;BYDAY=1SU
END:STANDARD
BEGIN:DAYLIGHT
DTSTART:20200329T010000
TZOFFSETTO:+0200
TZOFFSETFROM:+0100
RRULE:FREQ=YEARLY;BYMONTH=3;BYDAY=2SU
END:DAYLIGHT
END:VTIMEZONE
BEGIN:VEVENT
UID:567-c1c808bdbc3d5846d9e6af84b51ae8c8-principocket.com\n
DTSTART:20201127T183000
DTEND:20201127T183000
TRANSP:TRANSPARENT
IMAGE;VALUE=URI;DISPLAY=;FMTTYPE=image/png:https://app.monacoplatform.
 com/uploads/Be/BeWye8nRK6.jpg
STATUS:CONFIRMED
SUMMARY:Une des Dernières Soirées de Carnaval
DESCRIPTION:Vendredi 27 novembre 2020\, à 18h30\, Grimaldi Forum Mona
 co - Salle Prince Pierre\n\n"Une des Dernières Soirées de Carnaval" 
 de Carlo Goldoni avec Aymeline Alix\, Erwin Aros\, Louis Berthélémy\
 , Clémence Boué\, Jean-Noël Brouté\, Adeline Chagneau\, Marie Druc
 \, Charlotte Dumartheray\, M’hamed El Menjra\, Stéphane Facco\, Jul
 iette Léger\, Jeremy Lewin\, Clémence Prioux\, Guillaume Ravoire et 
 Daniel San Pedro\n\n https://www.principocket.com/fr/event/c1c808bdbc3
 d5846d9e6af84b51ae8c8/une-des-dernieres-soirees-de-carnaval
LOCATION:10\, avenue Princesse Grace
URL:https://www.principocket.com/event/c1c808bdbc3d5846d9e6af84b51ae8c8/567
DTSTAMP:20260421T074302Z
CREATED:20201125T145859Z
LAST-MODIFIED:20201125T145859Z
END:VEVENT
END:VCALENDAR
