BEGIN:VCALENDAR
VERSION:2.0
PRODID:-//Microsoft Corporation//Outlook 16.0 MIMEDIR//FR
CALSCALE:GREGORIAN
METHOD:PUBLISH
X-WR-TIMEZONE:Europe/Monaco
X-MS-OLK-FORCEINSPECTOROPEN:"TRUE"
BEGIN:VTIMEZONE
TZID:Europe/Monaco
BEGIN:STANDARD
DTSTART:20201025T010000
TZOFFSETTO:+0100
TZOFFSETFROM:+0200
RRULE:FREQ=YEARLY;BYMONTH=11;BYDAY=1SU
END:STANDARD
BEGIN:DAYLIGHT
DTSTART:20200329T010000
TZOFFSETTO:+0200
TZOFFSETFROM:+0100
RRULE:FREQ=YEARLY;BYMONTH=3;BYDAY=2SU
END:DAYLIGHT
END:VTIMEZONE
BEGIN:VEVENT
UID:529-1c2c1281a3581aa24653c2abbd770cfa-principocket.com\n
DTSTART:20201011T180000
DTEND:20201011T180000
TRANSP:TRANSPARENT
IMAGE;VALUE=URI;DISPLAY=;FMTTYPE=image/png:https://app.monacoplatform.
 com/uploads/cW/cWL2ExxWSy.jpg
STATUS:CONFIRMED
SUMMARY:Série Grande Saison
DESCRIPTION:Dimanche 11 octobre 2020\, à 18h\, Auditorium Rainier III
 \n\nSérie Grande Saison : concert par l'Orchestre Philharmonique de M
 onte-Carlo sous la direction de Cristian Macelaru avec Simon Trpčeski
 \, piano. Au programme : Modest Moussorgski\, Sergueï Rachmaninov et 
 Piotr Ilitch Tchaikovski\n\n https://www.principocket.com/fr/event/1c2
 c1281a3581aa24653c2abbd770cfa/serie-grande-saison
LOCATION:Boulevard Louis II
URL:https://www.principocket.com/event/1c2c1281a3581aa24653c2abbd770cfa/529
DTSTAMP:20260421T040414Z
CREATED:20201005T102446Z
LAST-MODIFIED:20201005T102446Z
END:VEVENT
END:VCALENDAR
