BEGIN:VCALENDAR
VERSION:2.0
PRODID:-//Microsoft Corporation//Outlook 16.0 MIMEDIR//FR
CALSCALE:GREGORIAN
METHOD:PUBLISH
X-WR-TIMEZONE:Europe/Monaco
X-MS-OLK-FORCEINSPECTOROPEN:"TRUE"
BEGIN:VTIMEZONE
TZID:Europe/Monaco
BEGIN:STANDARD
DTSTART:20201025T010000
TZOFFSETTO:+0100
TZOFFSETFROM:+0200
RRULE:FREQ=YEARLY;BYMONTH=11;BYDAY=1SU
END:STANDARD
BEGIN:DAYLIGHT
DTSTART:20200329T010000
TZOFFSETTO:+0200
TZOFFSETFROM:+0100
RRULE:FREQ=YEARLY;BYMONTH=3;BYDAY=2SU
END:DAYLIGHT
END:VTIMEZONE
BEGIN:VEVENT
UID:527-8075459300c757f48d7c9c18fb116235-principocket.com\n
DTSTART:20201006T183000
DTEND:20201006T183000
TRANSP:TRANSPARENT
IMAGE;VALUE=URI;DISPLAY=;FMTTYPE=image/png:https://app.monacoplatform.
 com/uploads/J_/J_rqsOuDBt.jpg
STATUS:CONFIRMED
SUMMARY:Happy Hour Musical
DESCRIPTION:Mardi 6 octobre 2020\, à 18h30\, Auditorium Rainier III\n
 \nHappy Hour Musical : concert de musique de chambre par le Trio Goldb
 erg avec Liza Kerob\, violon\, Federico Hood\, alto et Thierry Amadi\,
  violoncelle. Au programme : Ludwig van Beethoven\n\n https://www.prin
 cipocket.com/fr/event/8075459300c757f48d7c9c18fb116235/happy-hour-musi
 cal
LOCATION:Boulevard Louis II
URL:https://www.principocket.com/event/8075459300c757f48d7c9c18fb116235/527
DTSTAMP:20260420T234229Z
CREATED:20201005T102446Z
LAST-MODIFIED:20201005T102446Z
END:VEVENT
END:VCALENDAR
