BEGIN:VCALENDAR
VERSION:2.0
PRODID:-//Microsoft Corporation//Outlook 16.0 MIMEDIR//FR
CALSCALE:GREGORIAN
METHOD:PUBLISH
X-WR-TIMEZONE:Europe/Monaco
X-MS-OLK-FORCEINSPECTOROPEN:"TRUE"
BEGIN:VTIMEZONE
TZID:Europe/Monaco
BEGIN:STANDARD
DTSTART:20201025T010000
TZOFFSETTO:+0100
TZOFFSETFROM:+0200
RRULE:FREQ=YEARLY;BYMONTH=11;BYDAY=1SU
END:STANDARD
BEGIN:DAYLIGHT
DTSTART:20200329T010000
TZOFFSETTO:+0200
TZOFFSETFROM:+0100
RRULE:FREQ=YEARLY;BYMONTH=3;BYDAY=2SU
END:DAYLIGHT
END:VTIMEZONE
BEGIN:VEVENT
UID:526-8457b838643ee7ce9d7b570749c93e57-principocket.com\n
DTSTART:20201004T150000
DTEND:20201004T150000
TRANSP:TRANSPARENT
IMAGE;VALUE=URI;DISPLAY=;FMTTYPE=image/png:https://app.monacoplatform.
 com/uploads/tj/tjEs22dSfd.jpg
STATUS:CONFIRMED
SUMMARY:Série Grande Saison
DESCRIPTION:Dimanche 4 octobre 2020\, à 15h Opéra de Monte-Carlo - S
 alle Garnier\n\nSérie Grande Saison : concert par l'Orchestre Philhar
 monique de Monte-Carlo sous la direction de Václav Luks\, Fatma Said\
 , soprano et David Lefèvre\, violon. Au programme : Wolfgang Amadeus 
 Mozart et Josef Mysliveček\n\n https://www.principocket.com/fr/event/
 8457b838643ee7ce9d7b570749c93e57/serie-grande-saison
LOCATION:Place du Casino
URL:https://www.principocket.com/event/8457b838643ee7ce9d7b570749c93e57/526
DTSTAMP:20260420T210439Z
CREATED:20200918T161540Z
LAST-MODIFIED:20200918T161540Z
END:VEVENT
END:VCALENDAR
