BEGIN:VCALENDAR
VERSION:2.0
PRODID:-//Microsoft Corporation//Outlook 16.0 MIMEDIR//FR
CALSCALE:GREGORIAN
METHOD:PUBLISH
X-WR-TIMEZONE:Europe/Monaco
X-MS-OLK-FORCEINSPECTOROPEN:"TRUE"
BEGIN:VTIMEZONE
TZID:Europe/Monaco
BEGIN:STANDARD
DTSTART:20201025T010000
TZOFFSETTO:+0100
TZOFFSETFROM:+0200
RRULE:FREQ=YEARLY;BYMONTH=11;BYDAY=1SU
END:STANDARD
BEGIN:DAYLIGHT
DTSTART:20200329T010000
TZOFFSETTO:+0200
TZOFFSETFROM:+0100
RRULE:FREQ=YEARLY;BYMONTH=3;BYDAY=2SU
END:DAYLIGHT
END:VTIMEZONE
BEGIN:VEVENT
UID:525-b243e6ad04b477709794273253deb094-principocket.com\n
DTSTART:20200925T000000
DTEND:20200928T235900
TRANSP:TRANSPARENT
IMAGE;VALUE=URI;DISPLAY=;FMTTYPE=image/png:https://app.monacoplatform.
 com/uploads/zB/zBzpjiO_g2.jpg
STATUS:CONFIRMED
SUMMARY:Série Grande Saison
DESCRIPTION:Vendredi 25 et samedi 26 septembre\, à 20h et dimanche 27
  septembre 2020\, à 18h Auditorium Rainier III\n\nSérie Grande Saiso
 n : concert par l'Orchestre Philharmonique de Monte-Carlo sous la dire
 ction de Kazuki Yamada avec Krystian Zimerman\, piano. Au programme : 
 Ludwig van Beethoven\n\n https://www.principocket.com/fr/event/b243e6a
 d04b477709794273253deb094/serie-grande-saison
LOCATION:Boulevard Louis II
URL:https://www.principocket.com/event/b243e6ad04b477709794273253deb094/525
DTSTAMP:20260420T192826Z
CREATED:20200918T161540Z
LAST-MODIFIED:20200918T161540Z
X-MICROSOFT-CDO-ALLDAYEVENT:TRUE
END:VEVENT
END:VCALENDAR
