BEGIN:VCALENDAR
VERSION:2.0
PRODID:-//Microsoft Corporation//Outlook 16.0 MIMEDIR//FR
CALSCALE:GREGORIAN
METHOD:PUBLISH
X-WR-TIMEZONE:Europe/Monaco
X-MS-OLK-FORCEINSPECTOROPEN:"TRUE"
BEGIN:VTIMEZONE
TZID:Europe/Monaco
BEGIN:STANDARD
DTSTART:20201025T010000
TZOFFSETTO:+0100
TZOFFSETFROM:+0200
RRULE:FREQ=YEARLY;BYMONTH=11;BYDAY=1SU
END:STANDARD
BEGIN:DAYLIGHT
DTSTART:20200329T010000
TZOFFSETTO:+0200
TZOFFSETFROM:+0100
RRULE:FREQ=YEARLY;BYMONTH=3;BYDAY=2SU
END:DAYLIGHT
END:VTIMEZONE
BEGIN:VEVENT
UID:524-2bcc7515b5b57818891e014ea01a70b9-principocket.com\n
DTSTART:20200920T180000
DTEND:20200920T180000
TRANSP:TRANSPARENT
IMAGE;VALUE=URI;DISPLAY=;FMTTYPE=image/png:https://app.monacoplatform.
 com/uploads/Gy/GyOntQW2NE.jpg
STATUS:CONFIRMED
SUMMARY:Série Grande Saison
DESCRIPTION:Dimanche 20 septembre 2020\, à 18h\, Grimaldi Forum Monac
 o\n\nSérie Grande Saison : concert d'ouverture par l'Orchestre Philha
 rmonique de Monte-Carlo sous la direction de Kazuki Yamada avec Antje 
 Weithaas\, violon\, Marie-Elisabeth Hecker\, violoncelle et Martin Hel
 mchen\, piano. Au programme : Ludwig van Beethoven\n\n https://www.pri
 ncipocket.com/fr/event/2bcc7515b5b57818891e014ea01a70b9/serie-grande-s
 aison
LOCATION:10\, avenue Princesse Grace
URL:https://www.principocket.com/event/2bcc7515b5b57818891e014ea01a70b9/524
DTSTAMP:20260420T140242Z
CREATED:20200918T161540Z
LAST-MODIFIED:20200918T161540Z
END:VEVENT
END:VCALENDAR
