BEGIN:VCALENDAR
VERSION:2.0
PRODID:-//Microsoft Corporation//Outlook 16.0 MIMEDIR//FR
CALSCALE:GREGORIAN
METHOD:PUBLISH
X-WR-TIMEZONE:Europe/Monaco
X-MS-OLK-FORCEINSPECTOROPEN:"TRUE"
BEGIN:VTIMEZONE
TZID:Europe/Monaco
BEGIN:STANDARD
DTSTART:20251026T010000
TZOFFSETTO:+0100
TZOFFSETFROM:+0200
RRULE:FREQ=YEARLY;BYMONTH=11;BYDAY=1SU
END:STANDARD
BEGIN:DAYLIGHT
DTSTART:20250330T010000
TZOFFSETTO:+0200
TZOFFSETFROM:+0100
RRULE:FREQ=YEARLY;BYMONTH=3;BYDAY=2SU
END:DAYLIGHT
END:VTIMEZONE
BEGIN:VEVENT
UID:4806-8da572710da215734503290cf555152c-principocket.com\n
DTSTART:20250117T200000
DTEND:20250117T200000
TRANSP:TRANSPARENT
IMAGE;VALUE=URI;DISPLAY=;FMTTYPE=image/png:https://app.monacoplatform.
 com/uploads/5C/5CwYyJ7nJ5.jpg
STATUS:CONFIRMED
SUMMARY:Théâtre - "La note"
DESCRIPTION:Vendredi 17 janvier 2025\, à 20h\, Grimaldi Forum Monaco\
 n\nTout quitter sans même laisser un mot d’adieu ?\nC’est ce que 
 Julien a voulu faire et que Maud ne lui pardonne pas. Lui\, psychanaly
 ste célèbre et elle\, pianiste mondialement reconnue\, vont être co
 ntraints de faire le bilan de leur vie ainsi que celui de leur couple.
  Entre colère et drôlerie\, leurs confessions intimes s’enchaînen
 t comme une ultime tentative pour retrouver un sens à leur vie. Une n
 uit pour se quitter ou s’aimer à nouveau. Une nuit pour réinventer
  leur destin.\n\n https://www.principocket.com/fr/event/8da572710da215
 734503290cf555152c/theatre-la-note
LOCATION:10\, avenue Princesse Grace
URL:https://www.principocket.com/event/8da572710da215734503290cf555152
 c/4806
DTSTAMP:20260422T175124Z
CREATED:20250109T140930Z
LAST-MODIFIED:20250109T140930Z
END:VEVENT
END:VCALENDAR
