BEGIN:VCALENDAR
VERSION:2.0
PRODID:-//Microsoft Corporation//Outlook 16.0 MIMEDIR//FR
CALSCALE:GREGORIAN
METHOD:PUBLISH
X-WR-TIMEZONE:Europe/Monaco
X-MS-OLK-FORCEINSPECTOROPEN:"TRUE"
BEGIN:VTIMEZONE
TZID:Europe/Monaco
BEGIN:STANDARD
DTSTART:20241027T010000
TZOFFSETTO:+0100
TZOFFSETFROM:+0200
RRULE:FREQ=YEARLY;BYMONTH=11;BYDAY=1SU
END:STANDARD
BEGIN:DAYLIGHT
DTSTART:20240331T010000
TZOFFSETTO:+0200
TZOFFSETFROM:+0100
RRULE:FREQ=YEARLY;BYMONTH=3;BYDAY=2SU
END:DAYLIGHT
END:VTIMEZONE
BEGIN:VEVENT
UID:4658-42f12b87e89cd29b6f4e1862b8be9c6b-principocket.com\n
DTSTART:20241009T180000
DTEND:20241009T180000
TRANSP:TRANSPARENT
IMAGE;VALUE=URI;DISPLAY=;FMTTYPE=image/png:https://app.monacoplatform.
 com/uploads/P1/P1IEExKSq9.jpg
STATUS:CONFIRMED
SUMMARY:Table ronde - "Une Momie à Monaco"
DESCRIPTION:Mercredi 9 octobre 2024\, à 18h\, Musée d’Anthropologi
 e Préhistorique\n\nÉtude d'une momie égyptienne conservée au Musé
 e d'Anthropologie Préhistorique de Monaco.\nTable ronde animée par l
 e Dr O. Notter\, Dr. P. Brunner\, Professeur E. Fulcheri\, Dr. C. Oliv
 a\, Dr E. Rossoni-Notter ainsi que M. R. Lorenzino. Vous découvrirez 
 tout sur le programme scientifique mené autour de cette momie. \nLes 
 chercheurs du Musée d'Anthropologie Préhistorique de Monaco seront l
 à pour répondre à toutes vos questions. La visite sera guidée par 
 M. H. Mahfouz\, guide-agent égyptologue conférencier et M. G. Stabel
 lini spécialiste de la restauration.\n\n https://www.principocket.com
 /fr/event/42f12b87e89cd29b6f4e1862b8be9c6b/table-ronde-une-momie-a-mon
 aco
LOCATION:56 bis\, boulevard du Jardin Exotique
URL:https://www.principocket.com/event/42f12b87e89cd29b6f4e1862b8be9c6
 b/4658
DTSTAMP:20260422T085841Z
CREATED:20241009T134725Z
LAST-MODIFIED:20241009T134725Z
END:VEVENT
END:VCALENDAR
