BEGIN:VCALENDAR
VERSION:2.0
PRODID:-//Microsoft Corporation//Outlook 16.0 MIMEDIR//FR
CALSCALE:GREGORIAN
METHOD:PUBLISH
X-WR-TIMEZONE:Europe/Monaco
X-MS-OLK-FORCEINSPECTOROPEN:"TRUE"
BEGIN:VTIMEZONE
TZID:Europe/Monaco
BEGIN:STANDARD
DTSTART:20241027T010000
TZOFFSETTO:+0100
TZOFFSETFROM:+0200
RRULE:FREQ=YEARLY;BYMONTH=11;BYDAY=1SU
END:STANDARD
BEGIN:DAYLIGHT
DTSTART:20240331T010000
TZOFFSETTO:+0200
TZOFFSETFROM:+0100
RRULE:FREQ=YEARLY;BYMONTH=3;BYDAY=2SU
END:DAYLIGHT
END:VTIMEZONE
BEGIN:VEVENT
UID:4586-4b6b453406ff3ca0dc8471f7569fd6ca-principocket.com\n
DTSTART:20241128T203000
DTEND:20241128T203000
TRANSP:TRANSPARENT
IMAGE;VALUE=URI;DISPLAY=;FMTTYPE=image/png:https://app.monacoplatform.
 com/uploads/0w/0wSMI57yP_.jpg
STATUS:CONFIRMED
SUMMARY:Concert - "Cimafunk - Seun Kuti and Egypt 80"
DESCRIPTION:Jeudi 28 novembre 2024\, à 20h30\, Opéra Garnier Monte-C
 arlo\n\nMonte-Carlo Jazz Festival 2024 - Cimafunk : la rock-star afro-
 cubaine\, dont la musique est un mélange des rythmes afro-caribéens 
 à l’esprit du funk et du hip-hop. Suivi du concert de Seun Kuti : f
 ils du pionnier de l'afrobeat Fela Kuti\, le musicien nigérien prolon
 ge cet héritage musical avec son groove énergique\, aux côtés de l
 'ancien groupe de son père Egypt 80.\n\n https://www.principocket.com
 /fr/event/4b6b453406ff3ca0dc8471f7569fd6ca/concert-cimafunk-seun-kuti-
 and-egypt-80
LOCATION:Place du Casino
URL:https://www.principocket.com/event/4b6b453406ff3ca0dc8471f7569fd6c
 a/4586
DTSTAMP:20260420T214209Z
CREATED:20241122T135051Z
LAST-MODIFIED:20241122T135051Z
END:VEVENT
END:VCALENDAR
