BEGIN:VCALENDAR
VERSION:2.0
PRODID:-//Microsoft Corporation//Outlook 16.0 MIMEDIR//FR
CALSCALE:GREGORIAN
METHOD:PUBLISH
X-WR-TIMEZONE:Europe/Monaco
X-MS-OLK-FORCEINSPECTOROPEN:"TRUE"
BEGIN:VTIMEZONE
TZID:Europe/Monaco
BEGIN:STANDARD
DTSTART:20241027T010000
TZOFFSETTO:+0100
TZOFFSETFROM:+0200
RRULE:FREQ=YEARLY;BYMONTH=11;BYDAY=1SU
END:STANDARD
BEGIN:DAYLIGHT
DTSTART:20240331T010000
TZOFFSETTO:+0200
TZOFFSETFROM:+0100
RRULE:FREQ=YEARLY;BYMONTH=3;BYDAY=2SU
END:DAYLIGHT
END:VTIMEZONE
BEGIN:VEVENT
UID:4584-680d62f02f6a23911b250fe96379965d-principocket.com\n
DTSTART:20241124T180000
DTEND:20241124T180000
TRANSP:TRANSPARENT
IMAGE;VALUE=URI;DISPLAY=;FMTTYPE=image/png:https://app.monacoplatform.
 com/uploads/PU/PUdTKB38MC.jpg
STATUS:CONFIRMED
SUMMARY:Jazz & Cinéma - "Ascenseur pour l'échafaud"
DESCRIPTION:Dimanche 24 novembre 2024\, à 18h\, Opéra Garnier Monte-
 Carlo\n\nMonte-Carlo Jazz Festival 2024 - Cette projection en partenar
 iat avec l’Institut Audiovisuel de Monaco présentera "Ascenseur pou
 r l'échafaud" de Louis Malle\, avec la musique de Miles Davis et aura
  lieu le 24 novembre.\n\n https://www.principocket.com/fr/event/680d62
 f02f6a23911b250fe96379965d/jazz-cinema-ascenseur-pour-l-echafaud
LOCATION:Place du Casino
URL:https://www.principocket.com/event/680d62f02f6a23911b250fe96379965
 d/4584
DTSTAMP:20260420T184403Z
CREATED:20241122T135050Z
LAST-MODIFIED:20241122T135050Z
END:VEVENT
END:VCALENDAR
