BEGIN:VCALENDAR
VERSION:2.0
PRODID:-//Microsoft Corporation//Outlook 16.0 MIMEDIR//FR
CALSCALE:GREGORIAN
METHOD:PUBLISH
X-WR-TIMEZONE:Europe/Monaco
X-MS-OLK-FORCEINSPECTOROPEN:"TRUE"
BEGIN:VTIMEZONE
TZID:Europe/Monaco
BEGIN:STANDARD
DTSTART:20241027T010000
TZOFFSETTO:+0100
TZOFFSETFROM:+0200
RRULE:FREQ=YEARLY;BYMONTH=11;BYDAY=1SU
END:STANDARD
BEGIN:DAYLIGHT
DTSTART:20240331T010000
TZOFFSETTO:+0200
TZOFFSETFROM:+0100
RRULE:FREQ=YEARLY;BYMONTH=3;BYDAY=2SU
END:DAYLIGHT
END:VTIMEZONE
BEGIN:VEVENT
UID:4583-41e13500cc92bf7e90ab0436e0854ff5-principocket.com\n
DTSTART:20241123T203000
DTEND:20241123T203000
TRANSP:TRANSPARENT
IMAGE;VALUE=URI;DISPLAY=;FMTTYPE=image/png:https://app.monacoplatform.
 com/uploads/Ud/Ud4cMZljQ8.jpg
STATUS:CONFIRMED
SUMMARY:Concert - "AYO - Mayra Andrade"
DESCRIPTION:Samedi 23 novembre 2024\, à 20h30\, Opéra Garnier Monte-
 Carlo\n\nMonte-Carlo Jazz Festival 2024 - Deux concerts à l’Opéra 
 Garnier Monte-Carlo le 23 novembre avec AYO suivi de Mayra Andrade.\n\
 n https://www.principocket.com/fr/event/41e13500cc92bf7e90ab0436e0854f
 f5/concert-ayo-mayra-andrade
LOCATION:Place du Casino
URL:https://www.principocket.com/event/41e13500cc92bf7e90ab0436e0854ff
 5/4583
DTSTAMP:20260420T213830Z
CREATED:20241122T135050Z
LAST-MODIFIED:20241122T135050Z
END:VEVENT
END:VCALENDAR
