BEGIN:VCALENDAR
VERSION:2.0
PRODID:-//Microsoft Corporation//Outlook 16.0 MIMEDIR//FR
CALSCALE:GREGORIAN
METHOD:PUBLISH
X-WR-TIMEZONE:Europe/Monaco
X-MS-OLK-FORCEINSPECTOROPEN:"TRUE"
BEGIN:VTIMEZONE
TZID:Europe/Monaco
BEGIN:STANDARD
DTSTART:20241027T010000
TZOFFSETTO:+0100
TZOFFSETFROM:+0200
RRULE:FREQ=YEARLY;BYMONTH=11;BYDAY=1SU
END:STANDARD
BEGIN:DAYLIGHT
DTSTART:20240331T010000
TZOFFSETTO:+0200
TZOFFSETFROM:+0100
RRULE:FREQ=YEARLY;BYMONTH=3;BYDAY=2SU
END:DAYLIGHT
END:VTIMEZONE
BEGIN:VEVENT
UID:4571-f33d46266e9c04fb25fa8f1834245b77-principocket.com\n
DTSTART:20240928T093000
DTEND:20240928T113000
TRANSP:TRANSPARENT
IMAGE;VALUE=URI;DISPLAY=;FMTTYPE=image/png:https://app.monacoplatform.
 com/uploads/xK/xKNAcI1QoI.jpeg
STATUS:CONFIRMED
SUMMARY:Apéro Bible
DESCRIPTION:Samedi 28 septembre 2024 de 09h30 à 11h30\n\n\n\n https:/
 /www.principocket.com/fr/event/f33d46266e9c04fb25fa8f1834245b77/apero-
 bible
LOCATION:
URL:https://www.principocket.com/event/f33d46266e9c04fb25fa8f1834245b7
 7/4571
DTSTAMP:20260420T121006Z
CREATED:20240924T142549Z
LAST-MODIFIED:20240924T142549Z
END:VEVENT
END:VCALENDAR
